BEGIN:VCALENDAR
VERSION:2.0
CALSCALE:GREGORIAN
METHOD:PUBLISH
PRODID://WGCC//1372503
BEGIN:VEVENT
DTSTAMP:20260420T220002
VTIMEZONE:America/Denver
DTSTART:20250902T193000Z
DTEND:20251112T220000Z
UID:1372503
SUMMARY:ESL all Level 
LOCATION:Rifle Branch Library , 207 East Avenue, Rifle , CO, 81650
DESCRIPTION:ESL all Level \n\n09/02/25 01:30 PM MST\n - 11/12/25 03:00 PM MST\Description:\nESL Classes for students of different levels \nChild care provided. \Details:\nTuesdays and Wednesdays from 1:30 - 3:00 pm at the Rifle Branch Library \nThe cost is $60.00\n\nTo enroll, call: 970-625-6901\Location:\nRifle Branch Library \n207 East Avenue\nRifle , CO 81650
X-ALT-DESC;FMTTYPE=text/html:ESL all Level <br /><br />09/02/25 01:30 PM MST - 11/12/25 03:00 PM MST<br />Description:<br />ESL Classes for students of different levels&nbsp;<br />
Child care provided.&nbsp;<br />Details:<br />Tuesdays and Wednesdays from 1:30 - 3:00 pm at the Rifle Branch Library&nbsp;<br />
The cost is $60.00<br />
<br />
To enroll, call: 970-625-6901<br />Location:<br />Rifle Branch Library <br />207 East Avenue<br />Rifle , CO 81650
PRIORITY:3
TRANSP:TRANSPARENT
BEGIN:VALARM
TRIGGER:-PT5M
ACTION:DISPLAY
DESCRIPTION:Reminder
END:VALARM
END:VEVENT
END:VCALENDAR
