BEGIN:VCALENDAR
VERSION:2.0
CALSCALE:GREGORIAN
METHOD:PUBLISH
PRODID://WGCC//1372505
BEGIN:VEVENT
DTSTAMP:20260420T220126
VTIMEZONE:America/Denver
DTSTART:20250904T010000Z
DTEND:20251023T020000Z
UID:1372505
SUMMARY:Zumba & Strength for all: Bilingual Fitness for older adults 
LOCATION:Rifle Branch Library , 207 East Avenue, Rifle , CO, 81650
DESCRIPTION:Zumba & Strength for all: Bilingual Fitness for older adults \n\n09/03/25 07:00 PM MST\n - 10/22/25 08:00 PM MST\Description:\nJoin Darren & Alejandra Stotler for Zumba and strength training for adults looking to stay active, social, and strong. \n30 min of upbeat Zumba warm-up with Alejandra, a certified Zumba and trainer. \n30 min of Strength training led by Darren a Certified Strength Trainer. \Details:\nWednesdays from 7:00 pm - 8:00 pm at the Rifle branch Library \Location:\nRifle Branch Library \n207 East Avenue\nRifle , CO 81650
X-ALT-DESC;FMTTYPE=text/html:Zumba & Strength for all: Bilingual Fitness for older adults <br /><br />09/03/25 07:00 PM MST - 10/22/25 08:00 PM MST<br />Description:<br />Join Darren &amp; Alejandra Stotler for Zumba and strength training for adults looking to stay active, social, and strong.&nbsp;<br />
30 min of upbeat&nbsp;Zumba warm-up with Alejandra, a certified Zumba and trainer.&nbsp;<br />
30 min of Strength training led by Darren a Certified Strength Trainer.&nbsp;<br />Details:<br />Wednesdays from 7:00 pm - 8:00 pm at the Rifle branch Library&nbsp;<br />Location:<br />Rifle Branch Library <br />207 East Avenue<br />Rifle , CO 81650
PRIORITY:3
TRANSP:TRANSPARENT
BEGIN:VALARM
TRIGGER:-PT5M
ACTION:DISPLAY
DESCRIPTION:Reminder
END:VALARM
END:VEVENT
END:VCALENDAR
