BEGIN:VCALENDAR
VERSION:2.0
CALSCALE:GREGORIAN
METHOD:PUBLISH
PRODID://WGCC//1380402
BEGIN:VEVENT
DTSTAMP:20260420T220024
VTIMEZONE:America/Denver
DTSTART:20251023T233000Z
DTEND:20251024T010000Z
UID:1380402
SUMMARY:Business After Hours + Ribbon Cutting with Rough Bar & Grill
LOCATION:The Rough Bar & Grill, 3004 CO-325, Rifle, CO, 81652
DESCRIPTION:Business After Hours + Ribbon Cutting with Rough Bar & Grill\n\n10/23/25 05:30 PM MST\n - 10/23/25 07:00 PM MST\Description:\nStep out, connect, and grow your business at our October Business After Hours, hosted by The Rough Bar & Grill. This casual networking event is the perfect opportunity to meet fellow Chamber members, make new connections, and spark potential business opportunities. Plus we are celebrating a Ribbon Cutting too!\Location:\nThe Rough Bar & Grill\n3004 CO-325\nRifle, CO 81652
X-ALT-DESC;FMTTYPE=text/html:Business After Hours + Ribbon Cutting with Rough Bar & Grill<br /><br />10/23/25 05:30 PM MST - 10/23/25 07:00 PM MST<br />Description:<br />Step out, connect, and grow your business at our October Business After Hours, hosted by The Rough Bar &amp; Grill.&nbsp;This casual networking event is the perfect opportunity to meet fellow Chamber members, make new connections, and spark potential business opportunities. Plus we are celebrating a Ribbon Cutting too!<br />Location:<br />The Rough Bar & Grill<br />3004 CO-325<br />Rifle, CO 81652
PRIORITY:3
TRANSP:TRANSPARENT
BEGIN:VALARM
TRIGGER:-PT5M
ACTION:DISPLAY
DESCRIPTION:Reminder
END:VALARM
END:VEVENT
END:VCALENDAR
