BEGIN:VCALENDAR
VERSION:2.0
CALSCALE:GREGORIAN
METHOD:PUBLISH
PRODID://WGCC//1382617
BEGIN:VEVENT
DTSTAMP:20260420T202412
VTIMEZONE:America/Denver
DTSTART:20251110T000000Z
DTEND:20251110T040000Z
UID:1382617
SUMMARY:Veterans Day Dinner and 250th Marine Corps Birthday Celebration
LOCATION:Ute Theater in Rifle , 132 E 4th Street, Rifle, CO, 81650
DESCRIPTION:Veterans Day Dinner and 250th Marine Corps Birthday Celebration\n\n11/09/25 05:00 PM MST\n - 11/09/25 09:00 PM MST\Description:\nFor Veterans plus 1 guest \nPlease RSVP by Wednesday Nov, 6th to 970-625-2195 or at bpoe2195@gmail.com\nif no answer please leave a message with name, phone number, guest name, branch and also let us know if you are active, not active or retired. \Details:\nFor Veterans plus 1 guest \nPlease RSVP by Wednesday Nov, 6th to 970-625-2195 or at bpoe2195@gmail.com\nif no answer please leave a message with name, phonenumber, guest name, branch and also let us know if you are active, not active or retired. \n \Location:\nUte Theater in Rifle \n132 E 4th Street\nRifle, CO 81650
X-ALT-DESC;FMTTYPE=text/html:Veterans Day Dinner and 250th Marine Corps Birthday Celebration<br /><br />11/09/25 05:00 PM MST - 11/09/25 09:00 PM MST<br />Description:<br />For Veterans plus 1 guest&nbsp;<br />
Please RSVP by Wednesday Nov, 6th to 970-625-2195 or at bpoe2195@gmail.com<br />
if no answer please leave a message with name, phone number, guest name, branch and also let us know if you are active, not active or retired.&nbsp;<br />Details:<br />For Veterans plus 1 guest&nbsp;<br />
Please RSVP by Wednesday Nov, 6th to 970-625-2195 or at bpoe2195@gmail.com<br />
if no answer please leave a message with name, phonenumber, guest name, branch and also let us know if you are active, not active or retired.&nbsp;<br />
&nbsp;<br />Location:<br />Ute Theater in Rifle <br />132 E 4th Street<br />Rifle, CO 81650
PRIORITY:3
TRANSP:TRANSPARENT
BEGIN:VALARM
TRIGGER:-PT5M
ACTION:DISPLAY
DESCRIPTION:Reminder
END:VALARM
END:VEVENT
END:VCALENDAR
