BEGIN:VCALENDAR
VERSION:2.0
CALSCALE:GREGORIAN
METHOD:PUBLISH
PRODID://WGCC//1382834
BEGIN:VEVENT
DTSTAMP:20260420T220024
VTIMEZONE:America/Denver
DTSTART:20251023T220000Z
DTEND:20251023T230000Z
UID:1382834
SUMMARY:Medicare 101
LOCATION:Rifle Branch Library , 207 East Avenue, Rifle, CO, 81650
DESCRIPTION:Medicare 101\n\n10/23/25 04:00 PM MST\n - 10/23/25 05:00 PM MST\Description:\nAurora McCarroll of Bridlewood Insurance will present on introduction to Medicare parts A,B,C & D and Medicare Supplements. You can also learn about how United Healthcare is discontinuing several Medicare Advantages plans at the end of 2025, and what it means for current participants. \nThis event is for anyone turning 65 years old, retiring and coming off group health insurance, or interested n finding out if you can save money by going to Medicare while still working. \n \Details:\nWednesday October 23 at 4:00 pm at the Rifle Branch Library \Location:\nRifle Branch Library \n207 East Avenue\nRifle, CO 81650
X-ALT-DESC;FMTTYPE=text/html:Medicare 101<br /><br />10/23/25 04:00 PM MST - 10/23/25 05:00 PM MST<br />Description:<br />Aurora McCarroll of Bridlewood Insurance will present on introduction to Medicare parts A,B,C &amp; D and Medicare Supplements. You can also learn about how United Healthcare is discontinuing several Medicare Advantages plans at the end of 2025, and what it means for current participants.&nbsp;<br />
This event is for anyone turning 65 years old, retiring and coming off group health insurance, or interested n finding out if you can save money by going to Medicare while still working.&nbsp;<br />
&nbsp;<br />Details:<br />Wednesday October 23 at 4:00 pm at the Rifle Branch Library&nbsp;<br />Location:<br />Rifle Branch Library <br />207 East Avenue<br />Rifle, CO 81650
PRIORITY:3
TRANSP:TRANSPARENT
BEGIN:VALARM
TRIGGER:-PT5M
ACTION:DISPLAY
DESCRIPTION:Reminder
END:VALARM
END:VEVENT
END:VCALENDAR
