BEGIN:VCALENDAR
VERSION:2.0
CALSCALE:GREGORIAN
METHOD:PUBLISH
PRODID://WGCC//1382836
BEGIN:VEVENT
DTSTAMP:20260420T221708
VTIMEZONE:America/Denver
DTSTART:20251011T220000Z
DTEND:20251214T010000Z
UID:1382836
SUMMARY:High Rockies Harm Reduction 
LOCATION:Rifle Branch Library , 207 East Avenue, Rifle, CO, 81650
DESCRIPTION:High Rockies Harm Reduction \n\n10/11/25 04:00 PM MST\n - 12/13/25 06:00 PM MST\Description:\nFree: \nNarcan, Fentanyl Test Strips, Syringes, Pipes, etc. \nDyringe Disposal \nFirst Aid & Hygiene \nPeer Support and more \n\n \Details:\nSecond Saturdays at the Rifle Library \nSep. 13th\nOct. 11th\nNov. 8th \nDec. 13th \Location:\nRifle Branch Library \n207 East Avenue\nRifle, CO 81650
X-ALT-DESC;FMTTYPE=text/html:High Rockies Harm Reduction <br /><br />10/11/25 04:00 PM MST - 12/13/25 06:00 PM MST<br />Description:<br />Free:&nbsp;<br />
Narcan, Fentanyl Test Strips, Syringes, Pipes, etc.&nbsp;<br />
Dyringe Disposal&nbsp;<br />
First Aid &amp; Hygiene&nbsp;<br />
Peer Support and more&nbsp;<br />
<br />
&nbsp;<br />Details:<br />Second Saturdays at the Rifle Library&nbsp;<br />
Sep. 13th<br />
Oct. 11th<br />
Nov. 8th&nbsp;<br />
Dec. 13th&nbsp;<br />Location:<br />Rifle Branch Library <br />207 East Avenue<br />Rifle, CO 81650
PRIORITY:3
TRANSP:TRANSPARENT
BEGIN:VALARM
TRIGGER:-PT5M
ACTION:DISPLAY
DESCRIPTION:Reminder
END:VALARM
END:VEVENT
END:VCALENDAR
