BEGIN:VCALENDAR
VERSION:2.0
CALSCALE:GREGORIAN
METHOD:PUBLISH
PRODID://WGCC//1382837
BEGIN:VEVENT
DTSTAMP:20260420T221342
VTIMEZONE:America/Denver
DTSTART:20251015T160000Z
DTEND:20260101T000000Z
UID:1382837
SUMMARY:Workforce Colorado Rural Alliance 
LOCATION:Rifle Branch Library , 207 East Avenue, Rifle, CO, 81650
DESCRIPTION:Workforce Colorado Rural Alliance \n\n10/15/25 10:00 AM MST\n - 12/31/25 05:00 PM MST\Description:\nCome and get the help you need in order to obtain a job: \nWe offer: \nAssistance with job searches\nResume building \nJob related education \n\nOfrecemos: \nAsistencia con la busqueda de empleo\nAyuda en hacer su Curriculum \nEducacion relacionada con el trabajo \n\n \Details:\nEvery Wednesday  from 10:00 am to 5:00 pm at the Rifle Branch Library Make your appointment via phone or scan the QR Code \nTodos los Miercoles de 10:00 am a 5:00 pm en la Biblioteca de Rifle as tu cita por medio de una llamada o escaniando el codigo QR \n\n \Location:\nRifle Branch Library \n207 East Avenue\nRifle, CO 81650
X-ALT-DESC;FMTTYPE=text/html:Workforce Colorado Rural Alliance <br /><br />10/15/25 10:00 AM MST - 12/31/25 05:00 PM MST<br />Description:<br />Come and get the help you need in order to obtain a job:&nbsp;<br />
We offer:&nbsp;<br />
Assistance with job searches<br />
Resume building&nbsp;<br />
Job related education&nbsp;<br />
<br />
Ofrecemos:&nbsp;<br />
Asistencia con la busqueda de empleo<br />
Ayuda en hacer su Curriculum&nbsp;<br />
Educacion relacionada con el trabajo&nbsp;<br />
<br />
&nbsp;<br />Details:<br />Every Wednesday&nbsp; from 10:00 am to 5:00 pm at the Rifle Branch Library Make your appointment via phone or scan the QR Code&nbsp;<br />
Todos los Miercoles de 10:00 am a 5:00 pm en la Biblioteca de Rifle as tu cita por medio de una llamada o escaniando el codigo QR&nbsp;<br />
<br />
&nbsp;<br />Location:<br />Rifle Branch Library <br />207 East Avenue<br />Rifle, CO 81650
PRIORITY:3
TRANSP:TRANSPARENT
BEGIN:VALARM
TRIGGER:-PT5M
ACTION:DISPLAY
DESCRIPTION:Reminder
END:VALARM
END:VEVENT
END:VCALENDAR
