BEGIN:VCALENDAR
VERSION:2.0
CALSCALE:GREGORIAN
METHOD:PUBLISH
PRODID://WGCC//1384179
BEGIN:VEVENT
DTSTAMP:20260420T202546
VTIMEZONE:America/Denver
DTSTART:20251113T003000Z
DTEND:20251113T020000Z
UID:1384179
SUMMARY:CRVCC Workshop Series
LOCATION:Rifle Branch Library , 207 East Avenue, Rifle, CO, 81650
DESCRIPTION:CRVCC Workshop Series\n\n11/12/25 05:30 PM MST\n - 11/12/25 07:00 PM MST\Description:\nThe Colorado River Valley Chamber Workshop Series is a monthly event held every second Wednesday at the Garfield County Library in Rifle. The CRVCC workshop series is FREE to anyone interested and serves as a valuable resource for small business owners. Each month, we focus on a different subject that addresses key aspects of running and growing a small business. Whether you're just starting out or looking for new strategies to succeed, these workshops provide practical tools and insights to help you thrive in today’s competitive market.\Details:\nðŸ“… When: Every 2nd Wednesday of the month\nðŸ“ Where: Rifle Library 207 East Ave, Rifle\nðŸ’° Cost: FREE | Offered in English & Spanish\n\nJoin the Colorado River Valley Chamber for our Monthly Business Workshop Series, a valuable opportunity for business owners and professionals to gain expert insights, practical tools, and strategic guidance to help their businesses thrive.\n\nEach month, we feature a different business-focused topic, covering areas such as financial management, marketing, operations, workplace safety, and more. Workshops are designed to provide actionable strategies and free resources to support your success.\n\nðŸŒŸ What to Expect:\nâœ… Expert-led presentations & discussions\nâœ… Practical tools for business growth & efficiency\nâœ… Free resources & guidance from industry professionals\nâœ… Networking opportunities with local business owners\n\nNo matter where you are in your business journey—just starting out, scaling up, or fine-tuning your operations—these workshops provide the insights and resources you need to move forward with confidence.\n\nðŸ“¢ Open to all—business owners, entrepreneurs, and professionals welcome!\n\Location:\nRifle Branch Library \n207 East Avenue\nRifle, CO 81650
X-ALT-DESC;FMTTYPE=text/html:CRVCC Workshop Series<br /><br />11/12/25 05:30 PM MST - 11/12/25 07:00 PM MST<br />Description:<br />The Colorado River Valley Chamber Workshop Series is a monthly event held every second Wednesday at the Garfield County Library in Rifle. The CRVCC workshop series&nbsp;is FREE to anyone interested and serves&nbsp;as a valuable resource for small business owners. Each month, we focus on a different subject that addresses key aspects of running and growing a small business. Whether you're just starting out or looking for new strategies to succeed, these workshops provide practical tools and insights to help you thrive in today&rsquo;s competitive market.<br />Details:<br /><p data-end="312" data-start="163">ðŸ“… <strong data-end="175" data-start="166">When:</strong> Every 2nd Wednesday of the month<br data-end="211" data-start="208" />
ðŸ“ <strong data-end="224" data-start="214">Where:</strong> Rifle Library 207 East Ave, Rifle<br data-end="262" data-start="259" />
ðŸ’° <strong data-end="274" data-start="265">Cost:</strong> FREE | Offered in English &amp; Spanish</p>

<p data-end="567" data-start="314">Join the Colorado River Valley Chamber for our Monthly Business Workshop Series, a valuable opportunity for business owners and professionals to gain expert insights, practical tools, and strategic guidance to help their businesses thrive.<br />
<br />
Each month, we feature a different business-focused topic, covering areas such as financial management, marketing, operations, workplace safety, and more. Workshops are designed to provide actionable strategies and free resources to support your success.</p>

<p data-end="1073" data-start="839">ðŸŒŸ <strong data-end="861" data-start="842">What to Expect:</strong><br data-end="864" data-start="861" />
âœ… Expert-led presentations &amp; discussions<br data-end="907" data-start="904" />
âœ… Practical tools for business growth &amp; efficiency<br data-end="960" data-start="957" />
âœ… Free resources &amp; guidance from industry professionals<br data-end="1018" data-start="1015" />
âœ… Networking opportunities with local business owners</p>

<p data-end="1267" data-start="1075">No matter where you are in your business journey&mdash;just starting out, scaling up, or fine-tuning your operations&mdash;these workshops provide the insights and resources you need to move forward with confidence.</p>

<p data-end="1315" data-start="1269">ðŸ“¢ <strong>Open to all&mdash;business owners, entrepreneurs, and professionals welcome!</strong></p>
<br />Location:<br />Rifle Branch Library <br />207 East Avenue<br />Rifle, CO 81650
PRIORITY:3
TRANSP:TRANSPARENT
BEGIN:VALARM
TRIGGER:-PT5M
ACTION:DISPLAY
DESCRIPTION:Reminder
END:VALARM
END:VEVENT
END:VCALENDAR
