BEGIN:VCALENDAR
VERSION:2.0
CALSCALE:GREGORIAN
METHOD:PUBLISH
PRODID://WGCC//1384745
BEGIN:VEVENT
DTSTAMP:20260420T202300
VTIMEZONE:America/Denver
DTSTART:20251112T153000Z
DTEND:20251112T170000Z
UID:1384745
SUMMARY:Colorado River Valley Chamber Board Meeting
LOCATION:Parachute Branch Library , 244 Grand Valley Way, Parachute, CO, 81635
DESCRIPTION:Colorado River Valley Chamber Board Meeting\n\n11/12/25 08:30 AM MST\n - 11/12/25 10:00 AM MST\Description:\nWe hold our CRVCC Board Meetings every second Wednesday of the month. You are welcome to attend in person or via zoom. Zoom link is attached. \n\nhttps://www.google.com/url?q=https://us02web.zoom.us/j/84073024074?pwd%3D548rwTh33QuuF7eliI9wLa3cghZZ5r.1&sa=D&source=calendar&usd=2&usg=AOvVaw35tvdPhgzljxdaPeFolE28\nâ€‹\nMeeting ID: 840 7302 4074\nPasscode: 121945\Location:\nParachute Branch Library \n244 Grand Valley Way\nParachute, CO 81635
X-ALT-DESC;FMTTYPE=text/html:Colorado River Valley Chamber Board Meeting<br /><br />11/12/25 08:30 AM MST - 11/12/25 10:00 AM MST<br />Description:<br />We hold our CRVCC Board Meetings every second Wednesday of the month. You are welcome to attend in person or via zoom. Zoom link is attached.&nbsp;<br />
<br />
https://www.google.com/url?q=https://us02web.zoom.us/j/84073024074?pwd%3D548rwTh33QuuF7eliI9wLa3cghZZ5r.1&amp;sa=D&amp;source=calendar&amp;usd=2&amp;usg=AOvVaw35tvdPhgzljxdaPeFolE28<br />
â€‹<br />
Meeting ID: 840 7302 4074<br />
Passcode: 121945<br />Location:<br />Parachute Branch Library <br />244 Grand Valley Way<br />Parachute, CO 81635
PRIORITY:3
TRANSP:TRANSPARENT
BEGIN:VALARM
TRIGGER:-PT5M
ACTION:DISPLAY
DESCRIPTION:Reminder
END:VALARM
END:VEVENT
END:VCALENDAR
