BEGIN:VCALENDAR
VERSION:2.0
CALSCALE:GREGORIAN
METHOD:PUBLISH
PRODID://WGCC//1384754
BEGIN:VEVENT
DTSTAMP:20260420T202300
VTIMEZONE:America/Denver
DTSTART:20251119T190000Z
DTEND:20251119T200000Z
UID:1384754
SUMMARY:Ambassador Committee Meeting
LOCATION:CMC Rifle Campus, 3695 Airport Road, Rifle, CO, 81650
DESCRIPTION:Ambassador Committee Meeting\n\n11/19/25 12:00 PM MST\n - 11/19/25 01:00 PM MST\Description:\nAmbassadors Committee Meeting!! \nA great opportunity to connect, contribute, and make a difference.\nJoin today and be part of the impact!\Location:\nCMC Rifle Campus\n3695 Airport Road\nRifle, CO 81650
X-ALT-DESC;FMTTYPE=text/html:Ambassador Committee Meeting<br /><br />11/19/25 12:00 PM MST - 11/19/25 01:00 PM MST<br />Description:<br />Ambassadors Committee Meeting!!&nbsp;<br />
A great opportunity to connect, contribute, and make a difference.<br />
Join today and be part of the impact!<br />Location:<br />CMC Rifle Campus<br />3695 Airport Road<br />Rifle, CO 81650
PRIORITY:3
TRANSP:TRANSPARENT
BEGIN:VALARM
TRIGGER:-PT5M
ACTION:DISPLAY
DESCRIPTION:Reminder
END:VALARM
END:VEVENT
END:VCALENDAR
