BEGIN:VCALENDAR
VERSION:2.0
CALSCALE:GREGORIAN
METHOD:PUBLISH
PRODID://WGCC//1386138
BEGIN:VEVENT
DTSTAMP:20260420T202335
VTIMEZONE:America/Denver
DTSTART:20251116T000000Z
DTEND:20251116T030000Z
UID:1386138
SUMMARY:New Castle Lyons Community Thanksgiving Dinner
LOCATION:New Castle Community Center, 423 W. Main Street, New Castle, CO, 81647
DESCRIPTION:New Castle Lyons Community Thanksgiving Dinner\n\n11/15/25 05:00 PM MST\n - 11/15/25 08:00 PM MST\Description:\nThe New Castle Lions invite you to the Annual Community Thanksgiving Dinner. The dinner is free to all members fo teh community as a gift from the Lions. \Location:\nNew Castle Community Center\n423 W. Main Street\nNew Castle, CO 81647
X-ALT-DESC;FMTTYPE=text/html:New Castle Lyons Community Thanksgiving Dinner<br /><br />11/15/25 05:00 PM MST - 11/15/25 08:00 PM MST<br />Description:<br />The New Castle Lions invite you to the Annual Community Thanksgiving Dinner. The dinner is free to all members fo teh community as a gift from the Lions.&nbsp;<br />Location:<br />New Castle Community Center<br />423 W. Main Street<br />New Castle, CO 81647
PRIORITY:3
TRANSP:TRANSPARENT
BEGIN:VALARM
TRIGGER:-PT5M
ACTION:DISPLAY
DESCRIPTION:Reminder
END:VALARM
END:VEVENT
END:VCALENDAR
