BEGIN:VCALENDAR
VERSION:2.0
CALSCALE:GREGORIAN
METHOD:PUBLISH
PRODID://WGCC//1386140
BEGIN:VEVENT
DTSTAMP:20260420T202335
VTIMEZONE:America/Denver
DTSTART:20251121T170000Z
DTEND:20251122T010000Z
UID:1386140
SUMMARY:Pink Friday Shopping at Wild Roots Boutique in Silt
LOCATION:Wild Roots Boutique, 702 Main Street, Silt, CO, 81652
DESCRIPTION:Pink Friday Shopping at Wild Roots Boutique in Silt\n\n11/21/25 10:00 AM MST\n - 11/21/25 06:00 PM MST\Description:\nShop Small before you shop big at Wild Roots Boutique Pink Friday Event! This is the Friday before Black Friday. Deals, New Arrivals and Giveaways! Stop by and start your holiday shopping early and LOCAL! Doors open at 10 am. Instore and Online Deals too! \Location:\nWild Roots Boutique\n702 Main Street\nSilt, CO 81652
X-ALT-DESC;FMTTYPE=text/html:Pink Friday Shopping at Wild Roots Boutique in Silt<br /><br />11/21/25 10:00 AM MST - 11/21/25 06:00 PM MST<br />Description:<br />Shop Small before you shop big at Wild Roots Boutique Pink Friday Event! This is the Friday before Black Friday. Deals, New Arrivals and Giveaways! Stop by and start your holiday shopping early and LOCAL! Doors open at 10 am. Instore and Online Deals too!&nbsp;<br />Location:<br />Wild Roots Boutique<br />702 Main Street<br />Silt, CO 81652
PRIORITY:3
TRANSP:TRANSPARENT
BEGIN:VALARM
TRIGGER:-PT5M
ACTION:DISPLAY
DESCRIPTION:Reminder
END:VALARM
END:VEVENT
END:VCALENDAR
