BEGIN:VCALENDAR
VERSION:2.0
CALSCALE:GREGORIAN
METHOD:PUBLISH
PRODID://WGCC//1386143
BEGIN:VEVENT
DTSTAMP:20260420T202412
VTIMEZONE:America/Denver
DTSTART:20251128T170000Z
DTEND:20251129T010000Z
UID:1386143
SUMMARY:Black Friday Shopping at Wild Roots Boutique
LOCATION:Wild Roots Boutique, 702 Main Street, Silt, CO, 81652
DESCRIPTION:Black Friday Shopping at Wild Roots Boutique\n\n11/28/25 10:00 AM MST\n - 11/28/25 06:00 PM MST\Description:\nJoin Wild Roots Boutique for a fun BLACK FRIDAY EVENT! Deals, Giveaways and New Arrivals, you don't want to miss it! Stop in and shop for all those Holiday must haves! Online and Instore specials! Hope to see you there. \Location:\nWild Roots Boutique\n702 Main Street\nSilt, CO 81652
X-ALT-DESC;FMTTYPE=text/html:Black Friday Shopping at Wild Roots Boutique<br /><br />11/28/25 10:00 AM MST - 11/28/25 06:00 PM MST<br />Description:<br />Join Wild Roots Boutique for a fun BLACK FRIDAY EVENT! Deals, Giveaways and New Arrivals, you don't want to miss it! Stop in and shop for all those Holiday must haves! Online and Instore specials! Hope to see you there.&nbsp;<br />Location:<br />Wild Roots Boutique<br />702 Main Street<br />Silt, CO 81652
PRIORITY:3
TRANSP:TRANSPARENT
BEGIN:VALARM
TRIGGER:-PT5M
ACTION:DISPLAY
DESCRIPTION:Reminder
END:VALARM
END:VEVENT
END:VCALENDAR
