BEGIN:VCALENDAR
VERSION:2.0
CALSCALE:GREGORIAN
METHOD:PUBLISH
PRODID://WGCC//1386148
BEGIN:VEVENT
DTSTAMP:20260420T202259
VTIMEZONE:America/Denver
DTSTART:20251102T170000Z
DTEND:20251102T220000Z
UID:1386148
SUMMARY:Swap Meet at the Rough Bar and Grill 
LOCATION:The Rough Bar and Grill, 3004 CR 325, Rifle, CO, 81650
DESCRIPTION:Swap Meet at the Rough Bar and Grill \n\n11/02/25 10:00 AM MST\n - 11/02/25 03:00 PM MST\Description:\nJoin us for a Swap Meet at the Rough Bar and Grill inside the restaurant and foyer areas. Swap sell or trade. Now is the time to clean out your closet or garage to make room for some new stuff. Call to reserve a space or table. \Location:\nThe Rough Bar and Grill\n3004 CR 325\nRifle, CO 81650
X-ALT-DESC;FMTTYPE=text/html:Swap Meet at the Rough Bar and Grill <br /><br />11/02/25 10:00 AM MST - 11/02/25 03:00 PM MST<br />Description:<br />Join us for a Swap Meet at the Rough Bar and Grill inside the restaurant and foyer areas. Swap sell or trade. Now is the time to clean out your closet or garage to make room for some new stuff. Call to reserve a space or table.&nbsp;<br />Location:<br />The Rough Bar and Grill<br />3004 CR 325<br />Rifle, CO 81650
PRIORITY:3
TRANSP:TRANSPARENT
BEGIN:VALARM
TRIGGER:-PT5M
ACTION:DISPLAY
DESCRIPTION:Reminder
END:VALARM
END:VEVENT
END:VCALENDAR
