BEGIN:VCALENDAR
VERSION:2.0
CALSCALE:GREGORIAN
METHOD:PUBLISH
PRODID://WGCC//1387099
BEGIN:VEVENT
DTSTAMP:20260420T202546
VTIMEZONE:America/Denver
DTSTART:20251103T160000Z
DTEND:20251112T000000Z
UID:1387099
SUMMARY:GotSneakers fundraiser for Mountain Valley Developmental Services
LOCATION:MVDS Main Offices, 700 Mt. Sopris Drive, Glenwood Springs, CO, 81601
DESCRIPTION:GotSneakers fundraiser for Mountain Valley Developmental Services\n\n11/03/25 09:00 AM MST\n - 11/11/25 05:00 PM MST\Description:\nGot gently worn sneakers you no longer wear?\nSupport MVDS' Day Programs and keep used sneakers out of landfill!\nAll sizes and styles welcome.\nSupport individuals with I/DD.\nGive sneakers, save the environment.\nHelp us reach our goal of 500 pairs.\nEight drop-off locations.\nFull pairs of sneakers only (except Converse All-Stars and Vans slip-ons)\nFor more information, call 970-618-6090\nhttps://www.mtnvalley.org/enrichment-services/\Details:\nMountain Valley Developmental Services, Inc. is holding an athletic shoe drive fundraiser until Nov 11, 2025 to raise money for its Day Programs in Glenwood Springs, Silt and Minturn. MVDS will earn funds based on the total quantity of gently worn, used, and new sneakers (only) collected, and this first year has a goal of collecting 500 pairs. The \nMountain Valley Developmental Services has been supporting children (birth to age 3) and adults (18 to end of life) with intellectual and developmental disabilities for over 50 years. Our Adult Services Programs include residential, enrichment and employment services. The Day Program enrichment programs include horseback riding, skiing, visiting museums, and competing in Special Olympics sports.\n\nGotSneakers, a zero-waste sneaker recycling social enterprise, will issue funds in compensation for the collected sneakers. Those funds will benefit the MVDS Day Programs. Anyone can help by simply donating gently worn, used, and new sneakers. Sneakers not passed along to resale will be recycled, keeping landfills free of these long-decomposing materials. MVDS will work with its community partners to collect the sneakers at these 8 drop-off locations:\nDefiance Thrift Store, 2412 S. Glen Ave, Glenwood Springs, Tues-Sat, 10am-4pm;\nMVDS Glenwood Springs Day Program, 700 Mt. Sopris Drive, Glenwood Springs, Mon-Fri, 9am-5pm;\nDivine Moon, 111 W. 3rd, Rifle, Mon-Sat, 11am-5pm;\nMVDS Silt Day Program, 580 Home Ave, Silt, Mon-Fri, 9am-3pm;\nMVDS Minturn Day Program, 472 Main St, Minturn, Mon-Fri, 9am-3pm;\nGrassRoots Community Network, 110 E. Hallam St, Ste 132, Aspen, Wed, 10a-4pm;\nAspen High School High School Appreciation Club, 235 High School Rd, Aspen, Mon-Fri, 8am-3pm\nKDNK-FM, 76 S. 2nd St, Carbondale, Mon-Fri, 10am-4pm.\n\n“We are excited about our sneaker drive fundraiser,” said Sara Sims, MVDS executive director, “We know that most people in this high alpine region have extra sneakers in their closets that they’d like to donate rather than throw away. By doing so, we’re raising money for supplies and materials to support our Adult Services Day Programs while also helping the local environment. We are also very grateful to our thrift-store and other community partners’ help in collecting the sneakers. It’s a community and environmental win – win for everyone!” MVDS will be paid $7 for an excellent pair of sneakers, $2 for a good pair, $1 for a fair pair and $0 for non-athletic or non-paired sneakers.\nGotSneakers has developed a unique fundraising program that asks communities to reach into their closets, not their pockets. The sneaker recycling program* helps keep sneakers out of landfills, which has harmful effects on the environment, and helps organizations like MVDS raise much needed funds. Learn more about GotSneakers at www.gotsneakers.com.\n\nFor more information about the GotSneakers fund drive, contact Maura Masters, MVDS development director, 970-618-6090, mmasters@mtnvalley.org or visit: www.mtnvalley.org.\n\n*Sneaker recycling has become an increasingly popular topic in recent years, as people become more aware of the environmental impact of their footwear. Sneakers can take several decades to even hundreds of years to decompose in a landfill. The production of new sneakers requires a significant amount of energy and resources and has a severely damaging impact on the environment. At GotSneakers, sneaker recycling is a way to reduce the footwear industry’s impact on our planet by keeping sneakers out of landfills and extending the life of sneakers through resale and recycling. \n \Location:\nMVDS Main Offices\n700 Mt. Sopris Drive\nGlenwood Springs, CO 81601
X-ALT-DESC;FMTTYPE=text/html:GotSneakers fundraiser for Mountain Valley Developmental Services<br /><br />11/03/25 09:00 AM MST - 11/11/25 05:00 PM MST<br />Description:<br />Got gently worn sneakers you no longer wear?<br />
Support MVDS' Day Programs and keep used sneakers out of landfill!<br />
All sizes and styles welcome.<br />
Support individuals with I/DD.<br />
Give sneakers, save the environment.<br />
Help us reach our goal of 500 pairs.<br />
Eight drop-off locations.<br />
Full pairs of sneakers only (except Converse All-Stars and Vans slip-ons)<br />
For more information, call 970-618-6090<br />
https://www.mtnvalley.org/enrichment-services/<br />Details:<br />Mountain Valley Developmental Services, Inc. is holding&nbsp;an athletic shoe drive fundraiser until Nov 11, 2025&nbsp;to raise money for its Day Programs in Glenwood Springs, Silt and Minturn. MVDS will earn funds based on the total quantity of gently worn, used, and new sneakers (only) collected, and this first year has a goal of collecting 500 pairs. The&nbsp;<br />
Mountain Valley Developmental Services has been supporting children (birth to age 3) and adults (18 to end of life) with intellectual and developmental disabilities for over 50 years. Our Adult Services Programs include residential, enrichment and employment services. The Day Program enrichment programs include horseback riding, skiing, visiting museums, and competing in Special Olympics sports.<br />
<br />
GotSneakers, a zero-waste sneaker recycling social enterprise, will issue funds in compensation for the collected sneakers. Those funds will benefit the MVDS Day Programs. Anyone can help by simply donating gently worn, used, and new sneakers. Sneakers not passed along to resale will be recycled, keeping landfills free of these long-decomposing materials. MVDS will work with its community partners to collect the sneakers at these 8 drop-off locations:<br />
<u>Defiance Thrift Store</u>, 2412 S. Glen Ave, Glenwood Springs, Tues-Sat, 10am-4pm;<br />
<u>MVDS Glenwood Springs Day Program</u>, 700 Mt. Sopris Drive, Glenwood Springs, Mon-Fri, 9am-5pm;<br />
<u>Divine Moon</u>, 111 W. 3<sup>rd</sup>, Rifle, Mon-Sat, 11am-5pm;<br />
<u>MVDS Silt Day Program</u>, 580 Home Ave, Silt, Mon-Fri, 9am-3pm;<br />
<u>MVDS Minturn Day Program</u>, 472 Main St, Minturn, Mon-Fri, 9am-3pm;<br />
<u>GrassRoots Community Network</u>, 110 E. Hallam St, Ste 132, Aspen, Wed, 10a-4pm;<br />
<u>Aspen High School High School Appreciation Club</u>,&nbsp;235 High School Rd, Aspen, Mon-Fri, 8am-3pm<br />
<u>KDNK-FM</u>, 76 S. 2<sup>nd</sup> St, Carbondale, Mon-Fri, 10am-4pm.<br />
<br />
&ldquo;We are excited about our sneaker drive fundraiser,&rdquo; said Sara Sims, MVDS executive director, &ldquo;We know that most people in this high alpine region have extra sneakers in their closets that they&rsquo;d like to donate rather than throw away. By doing so, we&rsquo;re raising money for supplies and materials to support our Adult Services Day Programs while also helping the local environment. We are also very grateful to our thrift-store and other community partners&rsquo; help in collecting the sneakers. It&rsquo;s a community and environmental win &ndash; win for&nbsp;everyone!&rdquo; MVDS will be paid $7 for an excellent pair of sneakers, $2 for a good pair, $1 for a fair pair and <u>$0 for non-athletic or non-paired sneakers</u>.<br />
GotSneakers has developed a unique fundraising program that asks&nbsp;communities to reach into their closets, not their pockets. The <u>sneaker recycling program*</u> helps keep sneakers out of landfills, which has harmful effects on the environment, and helps organizations like MVDS raise much needed funds. Learn more about GotSneakers at www.gotsneakers.com.<br />
<br />
For more information about the GotSneakers fund drive, contact Maura Masters, MVDS development director, 970-618-6090, <a href="mailto:mmasters@mtnvalley.org">mmasters@mtnvalley.org</a> or visit: <a href="http://www.mtnvalley.org">www.mtnvalley.org</a>.<br />
<br />
<u>*Sneaker recycling</u> has become an increasingly popular topic in recent years, as people become more aware of the environmental impact of their footwear. Sneakers can take several decades to even hundreds of years to decompose in a landfill. The production of new sneakers requires a significant amount of energy and resources and has a severely damaging impact on the environment. At GotSneakers, sneaker recycling is a way to reduce the footwear industry&rsquo;s impact on our planet by keeping sneakers out of landfills and extending the life of sneakers through resale and recycling.&nbsp;<br />
&nbsp;<br />Location:<br />MVDS Main Offices<br />700 Mt. Sopris Drive<br />Glenwood Springs, CO 81601
PRIORITY:3
TRANSP:TRANSPARENT
BEGIN:VALARM
TRIGGER:-PT5M
ACTION:DISPLAY
DESCRIPTION:Reminder
END:VALARM
END:VEVENT
END:VCALENDAR
