BEGIN:VCALENDAR
VERSION:2.0
CALSCALE:GREGORIAN
METHOD:PUBLISH
PRODID://WGCC//1387818
BEGIN:VEVENT
DTSTAMP:20260420T202406
VTIMEZONE:America/Denver
DTSTART:20251110T170000Z
DTEND:20251110T173000Z
UID:1387818
SUMMARY:Ribbon Cutting for Rifle Crossfit
LOCATION:, 1850 Enterprise Ct. , Rifle, CO, 81650
DESCRIPTION:Ribbon Cutting for Rifle Crossfit\n\n11/10/25 10:00 AM MST\n - 11/10/25 10:30 AM MST\Description:\nJoin us as we celebrate the Ribbon Cutting with Rifle CrossFit!\nWe’re excited to welcome them as members of the Colorado River Valley Chamber of Commerce and celebrate their commitment to health, fitness, and community. ðŸ’ªâœ‚ï¸\n \n\Location:\n\n1850 Enterprise Ct. \nRifle, CO 81650
X-ALT-DESC;FMTTYPE=text/html:Ribbon Cutting for Rifle Crossfit<br /><br />11/10/25 10:00 AM MST - 11/10/25 10:30 AM MST<br />Description:<br /><p data-end="352" data-start="120">Join us as we celebrate the <strong data-end="187" data-start="148">Ribbon Cutting with Rifle CrossFit!</strong><br data-end="190" data-start="187" />
We&rsquo;re excited to welcome them as members of the Colorado River Valley Chamber of Commerce and celebrate their commitment to health, fitness, and community. ðŸ’ªâœ‚ï¸<br />
&nbsp;</p>
<br />Location:<br /><br />1850 Enterprise Ct. <br />Rifle, CO 81650
PRIORITY:3
TRANSP:TRANSPARENT
BEGIN:VALARM
TRIGGER:-PT5M
ACTION:DISPLAY
DESCRIPTION:Reminder
END:VALARM
END:VEVENT
END:VCALENDAR
