BEGIN:VCALENDAR
VERSION:2.0
CALSCALE:GREGORIAN
METHOD:PUBLISH
PRODID://WGCC//1388345
BEGIN:VEVENT
DTSTAMP:20260420T202438
VTIMEZONE:America/Denver
DTSTART:20251108T003000Z
DTEND:20251108T020000Z
UID:1388345
SUMMARY:Business After Hours with ANB Bank
LOCATION:ANB BANK, 429 Railroad Ave., Rifle, CO, 81650
DESCRIPTION:Business After Hours with ANB Bank\n\n11/07/25 05:30 PM MST\n - 11/07/25 07:00 PM MST\Description:\nMark your calendar! We’re excited to gather for November’s Business After Hours with ANB Bank in Rifle. Come mingle, make connections, and enjoy a fun evening with our local business community, it’s free to attend!\Location:\nANB BANK\n429 Railroad Ave.\nRifle, CO 81650
X-ALT-DESC;FMTTYPE=text/html:Business After Hours with ANB Bank<br /><br />11/07/25 05:30 PM MST - 11/07/25 07:00 PM MST<br />Description:<br />Mark your calendar! We&rsquo;re excited to gather for <strong data-end="475" data-start="440">November&rsquo;s Business After Hours</strong> with <strong data-end="503" data-start="481">ANB Bank in Rifle</strong><strong data-end="503" data-start="481">.</strong> Come mingle, make connections, and enjoy a fun evening with our local business community,&nbsp;<strong data-end="619" data-start="595">it&rsquo;s free to attend!</strong><br />Location:<br />ANB BANK<br />429 Railroad Ave.<br />Rifle, CO 81650
PRIORITY:3
TRANSP:TRANSPARENT
BEGIN:VALARM
TRIGGER:-PT5M
ACTION:DISPLAY
DESCRIPTION:Reminder
END:VALARM
END:VEVENT
END:VCALENDAR
