BEGIN:VCALENDAR
VERSION:2.0
CALSCALE:GREGORIAN
METHOD:PUBLISH
PRODID://WGCC//1388525
BEGIN:VEVENT
DTSTAMP:20260420T202553
VTIMEZONE:America/Denver
DTSTART:20251122T160000Z
DTEND:20251122T190000Z
UID:1388525
SUMMARY:JHACC Volunteer Coffee and Conversation
LOCATION:Journey Home Animal Care Center Classroom, 1500 Prefontaine Avenue, Rifle, CO, 81650
DESCRIPTION:JHACC Volunteer Coffee and Conversation\n\n11/22/25 09:00 AM MST\n - 11/22/25 12:00 PM MST\Description:\nConsidering volunteering with JHACC?\nJoin us in our classroom on November 22nd at 9am, and have the chance to speak with our Community Outreach Coordinator Nicole Coffin! Learn all about the different volunteering options with Journey Home, and if you're interested then you can get signed up to volunteer with us on the spot!\Details:\nConsidering volunteering with JHACC?\nJoin us in our classroom on November 22nd at 9am, and have the chance to speak with our Community Outreach Coordinator Nicole Coffin! Learn all about the different volunteering options with Journey Home, and ify you're interested then you can get signed up to volunteer with us on the spot!\Location:\nJourney Home Animal Care Center Classroom\n1500 Prefontaine Avenue\nRifle, CO 81650
X-ALT-DESC;FMTTYPE=text/html:JHACC Volunteer Coffee and Conversation<br /><br />11/22/25 09:00 AM MST - 11/22/25 12:00 PM MST<br />Description:<br />Considering volunteering with JHACC?<br />
Join us in our classroom on November 22nd at 9am, and have the chance to speak with our Community Outreach Coordinator Nicole Coffin! Learn all about the different volunteering options with Journey Home, and if you're interested then you can get signed up to volunteer with us on the spot!<br />Details:<br />Considering volunteering with JHACC?<br />
Join us in our classroom on November 22nd at 9am, and have the chance to speak with our Community Outreach Coordinator Nicole Coffin! Learn all about the different volunteering options with Journey Home, and ify you're interested then you can get signed up to volunteer with us on the spot!<br />Location:<br />Journey Home Animal Care Center Classroom<br />1500 Prefontaine Avenue<br />Rifle, CO 81650
PRIORITY:3
TRANSP:TRANSPARENT
BEGIN:VALARM
TRIGGER:-PT5M
ACTION:DISPLAY
DESCRIPTION:Reminder
END:VALARM
END:VEVENT
END:VCALENDAR
