BEGIN:VCALENDAR
VERSION:2.0
CALSCALE:GREGORIAN
METHOD:PUBLISH
PRODID://WGCC//1388951
BEGIN:VEVENT
DTSTAMP:20260420T202406
VTIMEZONE:America/Denver
DTSTART:20251111T180000Z
DTEND:20251111T210000Z
UID:1388951
SUMMARY:Veteran's Day Lunch @ The Rough Bar & Grill
LOCATION:The Rough Bar & Grill, 3004 Highway 325, Rifle, CO, 81650
DESCRIPTION:Veteran's Day Lunch @ The Rough Bar & Grill\n\n11/11/25 11:00 AM MST\n - 11/11/25 02:00 PM MST\Description:\nThis Veterans Day, The Rough Bar & Grill is showing their gratitude in a meaningful way — by offering free lunch to all past and current military personnel.\n\nIf you are a veteran or currently serving, please enjoy lunch on them as a small token of appreciation for your service and sacrifice.\nIf you know a veteran, please share and help spread the word.\Location:\nThe Rough Bar & Grill\n3004 Highway 325\nRifle, CO 81650
X-ALT-DESC;FMTTYPE=text/html:Veteran's Day Lunch @ The Rough Bar & Grill<br /><br />11/11/25 11:00 AM MST - 11/11/25 02:00 PM MST<br />Description:<br /><span style="font-size:16px">This Veterans Day, <strong data-end="157" data-start="132">The Rough Bar &amp; Grill</strong> is showing their gratitude in a meaningful way &mdash; by offering <strong data-end="276" data-start="219">free lunch to all past and current military personnel</strong>.<br />
<br />
If you are a veteran or currently serving, please enjoy lunch <em data-end="505" data-start="496">on them</em> as a small token of appreciation for your service and sacrifice.<br />
If you know a veteran, please share and help spread the word.</span><br />Location:<br />The Rough Bar & Grill<br />3004 Highway 325<br />Rifle, CO 81650
PRIORITY:3
TRANSP:TRANSPARENT
BEGIN:VALARM
TRIGGER:-PT5M
ACTION:DISPLAY
DESCRIPTION:Reminder
END:VALARM
END:VEVENT
END:VCALENDAR
