BEGIN:VCALENDAR
VERSION:2.0
CALSCALE:GREGORIAN
METHOD:PUBLISH
PRODID://WGCC//1388955
BEGIN:VEVENT
DTSTAMP:20260420T202336
VTIMEZONE:America/Denver
DTSTART:20251116T010000Z
DTEND:20251116T030000Z
UID:1388955
SUMMARY:Hannah Haupt Live @ The Rough Bar & Grill
LOCATION:The Rough Bar & Grill, 3004 Highway 325, Rifle, CO, 81650
DESCRIPTION:Hannah Haupt Live @ The Rough Bar & Grill\n\n11/15/25 06:00 PM MST\n - 11/15/25 08:00 PM MST\Description:\nJoin us for an evening of live music with singer-songwriter Hannah Haupt at The Rough Bar & Grill, located at the Rifle Creek Golf Course. Enjoy great food, drinks, and live acoustic music in a relaxed mountain-view setting.\n\nAll are welcome—bring friends and come support local live music.\Location:\nThe Rough Bar & Grill\n3004 Highway 325\nRifle, CO 81650
X-ALT-DESC;FMTTYPE=text/html:Hannah Haupt Live @ The Rough Bar & Grill<br /><br />11/15/25 06:00 PM MST - 11/15/25 08:00 PM MST<br />Description:<br />Join us for an evening of live music with singer-songwriter <strong data-end="220" data-start="204">Hannah Haupt</strong> at The Rough Bar &amp; Grill, located at the Rifle Creek Golf Course. Enjoy great food, drinks, and live acoustic music in a relaxed mountain-view setting.<br />
<br />
All are welcome&mdash;bring friends and come support local live music.<br />Location:<br />The Rough Bar & Grill<br />3004 Highway 325<br />Rifle, CO 81650
PRIORITY:3
TRANSP:TRANSPARENT
BEGIN:VALARM
TRIGGER:-PT5M
ACTION:DISPLAY
DESCRIPTION:Reminder
END:VALARM
END:VEVENT
END:VCALENDAR
