BEGIN:VCALENDAR
VERSION:2.0
CALSCALE:GREGORIAN
METHOD:PUBLISH
PRODID://WGCC//1389084
BEGIN:VEVENT
DTSTAMP:20260420T202244
VTIMEZONE:America/Denver
DTSTART:20251118T010000Z
DTEND:20251118T030000Z
UID:1389084
SUMMARY:Rifle Community Meeting - Activity Center
LOCATION:Rifle City Hall - City Council Chambers, 202 Railroad Ave, Rifle, CO, 81650
DESCRIPTION:Rifle Community Meeting - Activity Center\n\n11/17/25 06:00 PM MST\n - 11/17/25 08:00 PM MST\Description:\nJoin the Rifle Parks & Recreation Department as we share feedback from the first community meeting, survey results, "Build-A-Center" ideas from community members, and new design concepts for a proposed indoor activity center. Your input will help shape Rifle's future and guide the next steps of this exciting project!\Location:\nRifle City Hall - City Council Chambers\n202 Railroad Ave\nRifle, CO 81650
X-ALT-DESC;FMTTYPE=text/html:Rifle Community Meeting - Activity Center<br /><br />11/17/25 06:00 PM MST - 11/17/25 08:00 PM MST<br />Description:<br />Join the Rifle Parks &amp; Recreation Department as we share feedback from the first community meeting, survey results, &quot;Build-A-Center&quot; ideas from community members, and new design concepts for a proposed indoor activity center. Your input will help shape Rifle's future and guide the next steps of this exciting project!<br />Location:<br />Rifle City Hall - City Council Chambers<br />202 Railroad Ave<br />Rifle, CO 81650
PRIORITY:3
TRANSP:TRANSPARENT
BEGIN:VALARM
TRIGGER:-PT5M
ACTION:DISPLAY
DESCRIPTION:Reminder
END:VALARM
END:VEVENT
END:VCALENDAR
