BEGIN:VCALENDAR
VERSION:2.0
CALSCALE:GREGORIAN
METHOD:PUBLISH
PRODID://WGCC//1389085
BEGIN:VEVENT
DTSTAMP:20260420T202243
VTIMEZONE:America/Denver
DTSTART:20251119T000000Z
DTEND:20251119T020000Z
UID:1389085
SUMMARY:Rifle Community Meeting - Housing Plan
LOCATION:Rifle City Hall - City Council Chambers, 202 Railroad Ave, Rifle, CO, 81650
DESCRIPTION:Rifle Community Meeting - Housing Plan\n\n11/18/25 05:00 PM MST\n - 11/18/25 07:00 PM MST\Description:\nThe City of Rifle will host a community meeting on Tuesday, November 18, from 5:00 to 7:00 PM in the City Council Chambers to present the completed housing plan and share how the City intends to address current and future housing needs.\nDeveloped in partnership with Points Consulting, the housing plan highlights Rifle’s current housing challenges, identifies land available for future development, and presents key data and insights to guide decision-making.  It also provides recommendations like adopting form-based code, allowing more diverse housing types, offering incentives for affordable units, and reducing development barriers to help Rifle expand its housing options. \nEvent attendees will have the opportunity to:\n\n	Learn about the results of the citywide housing study\n	See recommendations for future housing development and zoning updates\n	Ask questions and provide input to City staff and consultants\n\nOther consulting firms, such as KLJ Engineering, will be present to discuss their work on the recently completed Safe Streets for All action plan.\n \Location:\nRifle City Hall - City Council Chambers\n202 Railroad Ave\nRifle, CO 81650
X-ALT-DESC;FMTTYPE=text/html:Rifle Community Meeting - Housing Plan<br /><br />11/18/25 05:00 PM MST - 11/18/25 07:00 PM MST<br />Description:<br />The City of Rifle will host a community meeting on Tuesday,&nbsp;November 18, from 5:00 to 7:00 PM&nbsp;in the&nbsp;City Council Chambers&nbsp;to present the completed housing plan and share how the City intends to address current and future housing needs.<br />
Developed in partnership with Points Consulting, the housing plan highlights Rifle&rsquo;s current housing challenges, identifies land available for future development, and presents key data and insights to guide decision-making.&nbsp; It also provides recommendations like adopting form-based code, allowing more diverse housing types, offering incentives for affordable units, and reducing development barriers to help Rifle expand its housing options.&nbsp;<br />
Event attendees will have the opportunity to:
<ul>
	<li>Learn about the results of the citywide housing study</li>
	<li>See recommendations for future housing development and zoning updates</li>
	<li>Ask questions and provide input to City staff and consultants</li>
</ul>
Other consulting firms, such as KLJ Engineering, will be present to discuss their work on the recently completed&nbsp;<em>Safe Streets for All action plan.</em><br />
&nbsp;<br />Location:<br />Rifle City Hall - City Council Chambers<br />202 Railroad Ave<br />Rifle, CO 81650
PRIORITY:3
TRANSP:TRANSPARENT
BEGIN:VALARM
TRIGGER:-PT5M
ACTION:DISPLAY
DESCRIPTION:Reminder
END:VALARM
END:VEVENT
END:VCALENDAR
