BEGIN:VCALENDAR
VERSION:2.0
CALSCALE:GREGORIAN
METHOD:PUBLISH
PRODID://WGCC//1389525
BEGIN:VEVENT
DTSTAMP:20260420T183236
VTIMEZONE:America/Denver
DTSTART:20251205T003000Z
DTEND:20251205T030000Z
UID:1389525
SUMMARY:Business After Hours with Alpine Bank
LOCATION:Ute Theatre, 132 E. 4th Street, Rifle, CO, 81652
DESCRIPTION:Business After Hours with Alpine Bank\n\n12/04/25 05:30 PM MST\n - 12/04/25 08:00 PM MST\Description:\n Kick Off the Home Town Holidays: Business After Hours with Alpine Bank! \nJoin us for a festive evening as we launch the Home Town Holidays season in style at our special Business After Hours hosted by Alpine Bank!\n\nConnect with fellow Chamber members, enjoy seasonal refreshments, and get into the holiday spirit with good company and great conversation. This is the perfect opportunity to network, share some cheer, and learn more about upcoming Home Town Holidays events in our community. Check out their flyer for details. \n\Location:\nUte Theatre\n132 E. 4th Street\nRifle, CO 81652
X-ALT-DESC;FMTTYPE=text/html:Business After Hours with Alpine Bank<br /><br />12/04/25 05:30 PM MST - 12/04/25 08:00 PM MST<br />Description:<br /><p data-end="341" data-start="107">&nbsp;<strong data-end="185" data-start="110">Kick Off the Home Town Holidays: Business After Hours with Alpine Bank!</strong>&nbsp;<br data-end="191" data-start="188" />
Join us for a festive evening as we launch the <em data-end="258" data-start="238">Home Town Holidays</em> season in style at our special <strong data-end="314" data-start="290">Business After Hours</strong> hosted by <strong data-end="340" data-start="325">Alpine Bank</strong>!</p>

<p data-end="618" data-start="343">Connect with fellow Chamber members, enjoy seasonal refreshments, and get into the holiday spirit with good company and great conversation. This is the perfect opportunity to network, share some cheer, and learn more about upcoming Home Town Holidays events in our community. Check out their flyer for details.&nbsp;</p>
<br />Location:<br />Ute Theatre<br />132 E. 4th Street<br />Rifle, CO 81652
PRIORITY:3
TRANSP:TRANSPARENT
BEGIN:VALARM
TRIGGER:-PT5M
ACTION:DISPLAY
DESCRIPTION:Reminder
END:VALARM
END:VEVENT
END:VCALENDAR
