BEGIN:VCALENDAR
VERSION:2.0
CALSCALE:GREGORIAN
METHOD:PUBLISH
PRODID://WGCC//1390124
BEGIN:VEVENT
DTSTAMP:20260420T185410
VTIMEZONE:America/Denver
DTSTART:20251205T003000Z
DTEND:20251208T030000Z
UID:1390124
SUMMARY:11th Annual Hometown Holiday
LOCATION:, 3rd Street, Rifle, CO, 81650
DESCRIPTION:11th Annual Hometown Holiday\n\n12/04/25 05:30 PM MST\n - 12/07/25 08:00 PM MST\Details:\nThursday, December 4\n\n\n5:30pm-     Alpine Bank Business After Hours @Ute Theater\n\n\n\n4pm – 7pm-    Midland Arts Old Fashion Open Houses @3rd Street\n\n\nFriday, December 5\n\n\n5pm – 7pm-- @E 3rd Street\n\n\n	\n	The Grinch Steals 3rd Street\n	\n\n\n\n	Face painting and balloon artists “Enchanted Kingdom” at the CoWork\n\n\n\n	Warming fires hosted by RE-2 School Dist.\n\n\n\n	Hot Chocolate hosted by 4-H\n\n\n\n\n5:30pm--    How the Grinch Stole Christmas Reading  @Moose Lodge\n\n6pm-    Christmas Cookie Eating Contest – Youth     @E 3rd Street\n\n\n\n6:30pm-     How the Grinch Stole Christmas Reading     @Moose Lodge\n\n\n\n6:45pm-     Christmas Cookie Eating Contest – Adult     @E 3rd Street\n\n\nSaturday, December 6\n\n\n9am – 3pm     Craft Fair- Highland Elementary PTA     @Rifle Middle School\n\n\n\n10am-     Film: Polar Express     @Brenden Theater\n\n\n\n10am – 1pm-     Pet Pictures with Santa     @Journey Home Animal Shelter\n\n\n\n10am – 2pm-     Free Kids Wreath Making      @Bookcliff Arts\n\n\n\n10am – 4pm-     Free Kids Ornament Making     @Rifle Library\n\n\n\n10am – 4pm-     Santa & Mrs. Claus     @Rifle City Hall\n\n\n\n12pm – 4pm-     FREE Holiday Mini Photo Sessions hosted by Property Professionals & Rifle Physical Therapy Reserve Your Time Slot!\n@Rifle Physical Therapy\n\n\n1pm – 3pm     Bingo/ Ornament Scavenger Hunt     @Rifle City Hall\n\n\n\n1pm – 3pm     Hay Rides     @Rifle Library\n\n\n\n2pm – 4pm     Live Reindeer     @Civic Plaza\n\n\n\n2pm-    Symphony in the Valley Presents: Sugar Plums & Sleigh Bells     @Ute Theater\n\n\n\n5pm-     Tree Lighting     @Heinze Park\n\n\n\n5:30pm – 5:50pm -     Holiday Fireworks Show     @Railroad Avenue\n\n\n\n5:45pm-     Parade of Lights     @Railroad Avenue\n\n\n\nFollowing Parade-     @Brenden Theater\n\n\n	Bonfire & Smores\n\n\n\n	Cookies & Hot Chocolate supplied by Museum\n\n\n\n	Music/DJ\n\n\n\n\n7pm-     Symphony in the Valley Presents: Sugar Plums & Sleigh Bells     @Ute Theater\n\n\nSunday, December 7\n\n\n2pm-     Symphony in the Valley Presents: Sugar Plums & Sleigh Bells     @Ute Theater\n\n\n\n4:30pm-     Symphony in the Valley Presents: Sugar Plums & Sleigh Bells     @Ute Theater\n\n\Location:\n\n3rd Street\nRifle, CO 81650
X-ALT-DESC;FMTTYPE=text/html:11th Annual Hometown Holiday<br /><br />12/04/25 05:30 PM MST - 12/07/25 08:00 PM MST<br />Details:<br /><h2>Thursday, December 4</h2>

<section data-element_type="section" data-id="40f5f00">
<h4>5:30pm-&nbsp;&nbsp;&nbsp;&nbsp; Alpine Bank Business After Hours&nbsp;<em>@Ute Theater</em></h4>
</section>

<section data-element_type="section" data-id="00194a6">
<p>4pm &ndash; 7pm-&nbsp;&nbsp;&nbsp;&nbsp;Midland Arts Old Fashion Open Houses&nbsp;<em>@3rd Street</em></p>
</section>

<h2>Friday, December 5</h2>

<section data-element_type="section" data-id="2566ecd">
<h4>5pm &ndash; 7pm--&nbsp;<em>@E 3rd Street</em></h4>

<ul>
	<li>
	<h4>The Grinch Steals 3rd Street</h4>
	</li>
</ul>

<ul>
	<li>Face painting and balloon artists &ldquo;Enchanted Kingdom&rdquo; at the CoWork</li>
</ul>

<ul>
	<li>Warming fires hosted by RE-2 School Dist.</li>
</ul>

<ul>
	<li>Hot Chocolate hosted by 4-H</li>
</ul>
</section>

<section data-element_type="section" data-id="2ab1992">
<p>5:30pm--&nbsp;&nbsp;&nbsp;&nbsp;How the Grinch Stole Christmas Reading&nbsp;&nbsp;<em>@Moose Lodge</em></p>

<p>6pm-&nbsp;&nbsp;&nbsp;&nbsp;Christmas Cookie Eating Contest &ndash; Youth&nbsp;&nbsp;&nbsp;&nbsp;&nbsp;<em>@E 3rd Street</em></p>
</section>

<section data-element_type="section" data-id="5b16a11">
<p>6:30pm- &nbsp;&nbsp;&nbsp;&nbsp;How the Grinch Stole Christmas Reading&nbsp;&nbsp;&nbsp;&nbsp;&nbsp;<em>@Moose Lodge</em></p>
</section>

<section data-element_type="section" data-id="8d715dd">
<p>6:45pm- &nbsp;&nbsp;&nbsp;&nbsp;Christmas Cookie Eating Contest &ndash; Adult&nbsp;&nbsp;&nbsp;&nbsp;&nbsp;<em>@E 3rd Street</em></p>
</section>

<h2>Saturday, December 6</h2>

<section data-element_type="section" data-id="4b5b4ef">
<h4>9am &ndash; 3pm &nbsp;&nbsp;&nbsp;&nbsp;Craft Fair- Highland Elementary PTA&nbsp;&nbsp;&nbsp;&nbsp;&nbsp;<em>@Rifle Middle School</em></h4>
</section>

<section data-element_type="section" data-id="60b62b2">
<p>10am- &nbsp;&nbsp;&nbsp;&nbsp;Film: Polar Express&nbsp;&nbsp;&nbsp;&nbsp;&nbsp;<em>@Brenden Theater</em></p>
</section>

<section data-element_type="section" data-id="0cd287d">
<p>10am &ndash; 1pm- &nbsp;&nbsp;&nbsp;&nbsp;Pet Pictures with Santa&nbsp;&nbsp;&nbsp;&nbsp;&nbsp;<em>@Journey Home Animal Shelter</em></p>
</section>

<section data-element_type="section" data-id="cd68801">
<p>10am &ndash; 2pm- &nbsp;&nbsp;&nbsp;&nbsp;Free Kids Wreath Making&nbsp;&nbsp;&nbsp;&nbsp;&nbsp;&nbsp;<em>@Bookcliff Arts</em></p>
</section>

<section data-element_type="section" data-id="5cdd428">
<p>10am &ndash; 4pm- &nbsp;&nbsp;&nbsp;&nbsp;Free Kids Ornament Making&nbsp;&nbsp;&nbsp;&nbsp;&nbsp;<em>@Rifle Library</em></p>
</section>

<section data-element_type="section" data-id="840af91">
<p>10am &ndash; 4pm-&nbsp;&nbsp;&nbsp;&nbsp;&nbsp;Santa &amp; Mrs. Claus&nbsp;&nbsp;&nbsp;&nbsp;&nbsp;<em>@Rifle City Hall</em></p>
</section>

<section data-element_type="section" data-id="d215ee4">
<p>12pm &ndash; 4pm- &nbsp;&nbsp;&nbsp;&nbsp;FREE Holiday Mini Photo Sessions hosted by Property Professionals &amp; Rifle Physical Therapy&nbsp;<a href="https://www.signupgenius.com/go/60B0E48ABAB2EA5F85-60296300-hometown" rel="noopener" target="_blank"><em>Reserve Your Time Slot!</em></a></p>
<em>@Rifle Physical Therapy</em></section>

<section data-element_type="section" data-id="2e311c3">
<p>1pm &ndash; 3pm &nbsp;&nbsp;&nbsp;&nbsp;Bingo/ Ornament Scavenger Hunt&nbsp;&nbsp;&nbsp;&nbsp;&nbsp;<em>@Rifle City Hall</em></p>
</section>

<section data-element_type="section" data-id="d12758f">
<p>1pm &ndash; 3pm &nbsp;&nbsp;&nbsp;&nbsp;Hay Rides&nbsp;&nbsp;&nbsp;&nbsp;&nbsp;<em>@Rifle Library</em></p>
</section>

<section data-element_type="section" data-id="b342701">
<p>2pm &ndash; 4pm &nbsp;&nbsp;&nbsp;&nbsp;Live Reindeer&nbsp;&nbsp;&nbsp;&nbsp;&nbsp;<em>@Civic Plaza</em></p>
</section>

<section data-element_type="section" data-id="a0322c0">
<p>2pm-&nbsp;&nbsp;&nbsp;&nbsp;Symphony in the Valley Presents: Sugar Plums &amp; Sleigh Bells&nbsp;&nbsp;&nbsp;&nbsp;&nbsp;<em>@Ute Theater</em></p>
</section>

<section data-element_type="section" data-id="2fcd2c2">
<p>5pm- &nbsp;&nbsp;&nbsp;&nbsp;Tree Lighting&nbsp;&nbsp;&nbsp;&nbsp;&nbsp;<em>@Heinze Park</em></p>
</section>

<section data-element_type="section" data-id="f85b973">
<p>5:30pm &ndash; 5:50pm - &nbsp;&nbsp;&nbsp;&nbsp;Holiday Fireworks Show&nbsp;&nbsp;&nbsp;&nbsp;&nbsp;<em>@Railroad Avenue</em></p>
</section>

<section data-element_type="section" data-id="a595c56">
<p>5:45pm- &nbsp;&nbsp;&nbsp;&nbsp;Parade of Lights&nbsp;&nbsp;&nbsp;&nbsp;&nbsp;<em>@Railroad Avenue</em></p>
</section>

<section data-element_type="section" data-id="5d2c275">
<p>Following Parade-&nbsp;&nbsp;&nbsp;&nbsp;&nbsp;<em>@Brenden Theater</em></p>

<ul>
	<li>Bonfire &amp; Smores</li>
</ul>

<ul>
	<li>Cookies &amp; Hot Chocolate&nbsp;<em>supplied by Museum</em></li>
</ul>

<ul>
	<li>Music/DJ</li>
</ul>
</section>

<section data-element_type="section" data-id="ea7a0f6">
<p>7pm- &nbsp;&nbsp;&nbsp;&nbsp;Symphony in the Valley Presents: Sugar Plums &amp; Sleigh Bells&nbsp;&nbsp;&nbsp;&nbsp;&nbsp;<em>@Ute Theater</em></p>
</section>

<h2>Sunday, December 7</h2>

<section data-element_type="section" data-id="17ac040">
<h4>2pm- &nbsp;&nbsp;&nbsp;&nbsp;Symphony in the Valley Presents: Sugar Plums &amp; Sleigh Bells&nbsp;&nbsp;&nbsp;&nbsp;&nbsp;<em>@Ute Theater</em></h4>
</section>

<section data-element_type="section" data-id="d95455f">
<p>4:30pm- &nbsp;&nbsp;&nbsp;&nbsp;Symphony in the Valley Presents: Sugar Plums &amp; Sleigh Bells&nbsp;&nbsp;&nbsp;&nbsp;&nbsp;<em>@Ute Theater</em></p>
</section>
<br />Location:<br /><br />3rd Street<br />Rifle, CO 81650
PRIORITY:3
TRANSP:TRANSPARENT
BEGIN:VALARM
TRIGGER:-PT5M
ACTION:DISPLAY
DESCRIPTION:Reminder
END:VALARM
END:VEVENT
END:VCALENDAR
