BEGIN:VCALENDAR
VERSION:2.0
CALSCALE:GREGORIAN
METHOD:PUBLISH
PRODID://WGCC//1390483
BEGIN:VEVENT
DTSTAMP:20260420T164236
VTIMEZONE:America/Denver
DTSTART:20260129T233000Z
DTEND:20260130T020000Z
UID:1390483
SUMMARY:Ribbon Cutting + Grand Opening - Sittin Pretty Beauty Lounge
LOCATION:Sittin Pretty Beauty Lounge, 707 Wapiti Ct Suite 101 B, Rifle, CO, 81650
DESCRIPTION:Ribbon Cutting + Grand Opening - Sittin Pretty Beauty Lounge\n\n01/29/26 04:30 PM MST\n - 01/29/26 07:00 PM MST\Description:\nJoin us at Sittin Pretty Beauty Lounge for a Grand Opening of their new location followed by a Ribbon Cutting! The event starts at 4:30 pm -7 pm. Ribbon Cutting will talke place at 5 p.m.\Location:\nSittin Pretty Beauty Lounge\n707 Wapiti Ct Suite 101 B\nRifle, CO 81650
X-ALT-DESC;FMTTYPE=text/html:Ribbon Cutting + Grand Opening - Sittin Pretty Beauty Lounge<br /><br />01/29/26 04:30 PM MST - 01/29/26 07:00 PM MST<br />Description:<br />Join us at Sittin Pretty Beauty Lounge for a Grand Opening of their new location followed by a Ribbon Cutting! The event starts at 4:30 pm -7 pm. Ribbon Cutting will talke place at 5 p.m.<br />Location:<br />Sittin Pretty Beauty Lounge<br />707 Wapiti Ct Suite 101 B<br />Rifle, CO 81650
PRIORITY:3
TRANSP:TRANSPARENT
BEGIN:VALARM
TRIGGER:-PT5M
ACTION:DISPLAY
DESCRIPTION:Reminder
END:VALARM
END:VEVENT
END:VCALENDAR
