BEGIN:VCALENDAR
VERSION:2.0
CALSCALE:GREGORIAN
METHOD:PUBLISH
PRODID://WGCC//1391306
BEGIN:VEVENT
DTSTAMP:20260420T183214
VTIMEZONE:America/Denver
DTSTART:20251213T213000Z
DTEND:20251214T010000Z
UID:1391306
SUMMARY:Holidays in Grand Valley
LOCATION:Parachute Rest Area Park, 400 E. 2nd St., Parachute, CO, 81635
DESCRIPTION:Holidays in Grand Valley\n\n12/13/25 02:30 PM MST\n - 12/13/25 06:00 PM MST\Description:\nJoin us in Downtown Parachute at the Rest Area Park and I-70 Visitor Center for an annual community tradition and festive celebration of the season! Free visits with Santa, light parade, hot cocoa, games, and holiday activities for all ages. The finale of the evening is the Tree Lighting Ceremony and a dazzling Fireworks Show. Bring your family, friends, and holiday spirit for an evening full of cheer and community magic in the heart of Parachute!\Details:\nThis event is FREE for the whole family!\nBegins at 2:30 PM\nðŸŽ… Free visits with Santa • â˜• Hot cocoa\nðŸš— Light Parade at 5:00 PM\nðŸŽ„ Tree Lighting at 5:30 PM\n\nFireworks will follow the tree lighting ceremony, at approximately 5:45 PM\n\nThis year’s celebration kicks off at 2:30 p.m. at the Rest Area Park and I-70 Visitor Center, where families can enjoy free visits with Santa, hot cocoa, cookies, smores, and a variety of seasonal activities for all ages. Community organizations and volunteers will join in to help create a warm and welcoming holiday atmosphere.\n\nAt 5:00 p.m., the community will come together for the annual Light Parade, a favorite local tradition featuring brightly decorated floats, vehicles, and holiday displays as they make their way through Downtown. Residents, businesses, and local groups are encouraged to participate and help make this year’s parade the brightest yet.\n\nAt approximately 5:30 p.m., the celebration continues with the traditional Tree Lighting Ceremony. Immediately afterward, at approximately 5:45 p.m., a festive fireworks display will light up the sky, offering a dazzling finale to the evening’s events and creating a memorable experience for families and visitors.\n\nFor more information or to sign up for the Light Parade, please visit the webpage below or contact the Town of Parachute at 970-285-7630.\n\nEvent & Parade Registration Details...\n\nBrought to you by the Town of Parachute\n\Location:\nParachute Rest Area Park\n400 E. 2nd St.\nParachute, CO 81635
X-ALT-DESC;FMTTYPE=text/html:Holidays in Grand Valley<br /><br />12/13/25 02:30 PM MST - 12/13/25 06:00 PM MST<br />Description:<br />Join us in Downtown Parachute at the Rest Area Park and I-70 Visitor Center for an annual community tradition and festive celebration of the season! Free visits with Santa, light parade, hot cocoa, games, and holiday activities for all ages. The finale of the evening is the Tree Lighting Ceremony and a dazzling Fireworks Show. Bring your family, friends, and holiday spirit for an evening full of cheer and community magic in the heart of Parachute!<br />Details:<br /><p><strong>This event is FREE for the whole family!<br />
Begins at 2:30 PM</strong><br />
ðŸŽ… Free visits with Santa &bull; â˜• Hot cocoa<br />
ðŸš— <strong>Light Parade</strong> at <strong>5:00 PM</strong><br />
ðŸŽ„ <strong>Tree Lighting </strong>at <strong>5:30 PM</strong></p>

<p><strong>Fireworks </strong>will follow the tree lighting ceremony, at <strong>approximately 5:45 PM</strong></p>

<p>This year&rsquo;s celebration kicks off at 2:30 p.m. at the Rest Area Park and I-70 Visitor Center, where families can enjoy free visits with Santa, hot cocoa, cookies, smores, and a variety of seasonal activities for all ages. Community organizations and volunteers will join in to help create a warm and welcoming holiday atmosphere.</p>

<p>At 5:00 p.m., the community will come together for the annual Light Parade, a favorite local tradition featuring brightly decorated floats, vehicles, and holiday displays as they make their way through Downtown. Residents, businesses, and local groups are encouraged to participate and help make this year&rsquo;s parade the brightest yet.</p>

<p>At approximately 5:30 p.m., the celebration continues with the traditional Tree Lighting Ceremony. Immediately afterward, at approximately 5:45 p.m., a festive fireworks display will light up the sky, offering a dazzling finale to the evening&rsquo;s events and creating a memorable experience for families and visitors.<br />
<br />
For more information or to sign up for the Light Parade, please visit the webpage below or contact the Town of Parachute at 970-285-7630.</p>

<p><a href="https://www.parachute.gov/page/holidays-in-grand-valley" rel="noopener noreferrer nofollow" target="_blank">Event &amp; Parade Registration Details...</a><br />
<br />
<em>Brought to you by the Town of Parachute</em></p>
<br />Location:<br />Parachute Rest Area Park<br />400 E. 2nd St.<br />Parachute, CO 81635
PRIORITY:3
TRANSP:TRANSPARENT
BEGIN:VALARM
TRIGGER:-PT5M
ACTION:DISPLAY
DESCRIPTION:Reminder
END:VALARM
END:VEVENT
END:VCALENDAR
