BEGIN:VCALENDAR
VERSION:2.0
CALSCALE:GREGORIAN
METHOD:PUBLISH
PRODID://WGCC//1393228
BEGIN:VEVENT
DTSTAMP:20260420T183235
VTIMEZONE:America/Denver
DTSTART:20251206T220000Z
DTEND:20251207T000000Z
UID:1393228
SUMMARY:Hometown Holidays Cookie Decorating and Warm Beverages - FREE!
LOCATION:Rifle Climbing Center, 139 W. 3rd St., Rifle, Co, 81650
DESCRIPTION:Hometown Holidays Cookie Decorating and Warm Beverages - FREE!\n\n12/06/25 03:00 PM MST\n - 12/06/25 05:00 PM MST\Description:\nJoin us Saturday, December 6, from 3-5pm for free family cookie decorating and warm beverages before the parade and fireworks, as part of the city's Hometown Holiday event!\n\nhttp://www.visitrifle.com/featured.../hometown-holiday/\n\Details:\nJoin us Saturday, December 6, from 3-5pm for free family cookie decorating and warm beverages before the parade and fireworks, as part of the city's Hometown Holiday event!\n\nhttp://www.visitrifle.com/featured.../hometown-holiday/\n\Location:\nRifle Climbing Center\n139 W. 3rd St.\nRifle, Co 81650
X-ALT-DESC;FMTTYPE=text/html:Hometown Holidays Cookie Decorating and Warm Beverages - FREE!<br /><br />12/06/25 03:00 PM MST - 12/06/25 05:00 PM MST<br />Description:<br /><div class="xdj266r x14z9mp xat24cr x1lziwak x1vvkbs"><span class="x13faqbe x193iq5w x1943h6x x1cpjm7i x1fgarty x1gmr53x x1lliihq x1s928wv x1vvkbs x1xmvt09 x3x7a5m x6prxxf xeuugli xhkezso xo1l8bm xudqn12 xvq8zen xzsf02u" dir="auto">Join us Saturday, December 6, from 3-5pm for free family cookie decorating and warm beverages before the parade and fireworks, as part of the city's Hometown Holiday event!</span></div>

<div class="x14z9mp xat24cr x1lziwak x1vvkbs xtlvy1s"><span class="x13faqbe x193iq5w x1943h6x x1cpjm7i x1fgarty x1gmr53x x1lliihq x1s928wv x1vvkbs x1xmvt09 x3x7a5m x6prxxf xeuugli xhkezso xo1l8bm xudqn12 xvq8zen xzsf02u" dir="auto"><a class="x1i10hfl xjbqb8w x1ejq31n x18oe1m7 x1sy0etr xstzfhl x972fbf x10w94by x1qhh985 x14e42zd x9f619 x1ypdohk xt0psk2 x3ct3a4 xdj266r x14z9mp xat24cr x1lziwak xexx8yu xyri2b x18d9i69 x1c1uobl x16tdsg8 x1hl2dhg xggy1nq x1a2a7pz xkrqix3 x1sur9pj x1fey0fg x1s688f" href="http://www.visitrifle.com/featured-rifle-event/hometown-holiday/" rel="noreferrer noopener" target="_blank">http://www.visitrifle.com/featured.../hometown-holiday/</a></span></div>
<br />Details:<br /><div class="xdj266r x14z9mp xat24cr x1lziwak x1vvkbs"><span class="x13faqbe x193iq5w x1943h6x x1cpjm7i x1fgarty x1gmr53x x1lliihq x1s928wv x1vvkbs x1xmvt09 x3x7a5m x6prxxf xeuugli xhkezso xo1l8bm xudqn12 xvq8zen xzsf02u" dir="auto">Join us Saturday, December 6, from 3-5pm for free family cookie decorating and warm beverages before the parade and fireworks, as part of the city's Hometown Holiday event!</span></div>

<div class="x14z9mp xat24cr x1lziwak x1vvkbs xtlvy1s"><span class="x13faqbe x193iq5w x1943h6x x1cpjm7i x1fgarty x1gmr53x x1lliihq x1s928wv x1vvkbs x1xmvt09 x3x7a5m x6prxxf xeuugli xhkezso xo1l8bm xudqn12 xvq8zen xzsf02u" dir="auto"><a class="x1i10hfl xjbqb8w x1ejq31n x18oe1m7 x1sy0etr xstzfhl x972fbf x10w94by x1qhh985 x14e42zd x9f619 x1ypdohk xt0psk2 x3ct3a4 xdj266r x14z9mp xat24cr x1lziwak xexx8yu xyri2b x18d9i69 x1c1uobl x16tdsg8 x1hl2dhg xggy1nq x1a2a7pz xkrqix3 x1sur9pj x1fey0fg x1s688f" href="http://www.visitrifle.com/featured-rifle-event/hometown-holiday/" rel="noreferrer noopener" target="_blank">http://www.visitrifle.com/featured.../hometown-holiday/</a></span></div>
<br />Location:<br />Rifle Climbing Center<br />139 W. 3rd St.<br />Rifle, Co 81650
PRIORITY:3
TRANSP:TRANSPARENT
BEGIN:VALARM
TRIGGER:-PT5M
ACTION:DISPLAY
DESCRIPTION:Reminder
END:VALARM
END:VEVENT
END:VCALENDAR
