BEGIN:VCALENDAR
VERSION:2.0
CALSCALE:GREGORIAN
METHOD:PUBLISH
PRODID://WGCC//1393244
BEGIN:VEVENT
DTSTAMP:20260420T183214
VTIMEZONE:America/Denver
DTSTART:20251217T190000Z
DTEND:20251217T200000Z
UID:1393244
SUMMARY:Ambassador Meeting
LOCATION:, 3695 Airport Road, Rifle, CO, 81650
DESCRIPTION:Ambassador Meeting\n\n12/17/25 12:00 PM MST\n - 12/17/25 01:00 PM MST\Description:\nThe Colorado River Valley Chamber of Commerce Ambassadors play a crucial role in bridging the gap between the Chamber, its members, and the broader community. Ambassadors are volunteer representatives who actively promote Chamber membership, assist in member retention, and support various Chamber events and initiatives. They alsoprovide scholarships to local high school students. Come join and find out if this would be the right fit for you. \Location:\n\n3695 Airport Road\nRifle, CO 81650
X-ALT-DESC;FMTTYPE=text/html:Ambassador Meeting<br /><br />12/17/25 12:00 PM MST - 12/17/25 01:00 PM MST<br />Description:<br /><strong>The Colorado River Valley Chamber of Commerce Ambassadors play a crucial role in bridging the gap between the Chamber, its members, and the broader community. Ambassadors are volunteer representatives who actively promote Chamber membership, assist in member retention, and support various Chamber events and initiatives. They alsoprovide scholarships to local high school students. Come join and find out if this would be the right fit for you.&nbsp;</strong><br />Location:<br /><br />3695 Airport Road<br />Rifle, CO 81650
PRIORITY:3
TRANSP:TRANSPARENT
BEGIN:VALARM
TRIGGER:-PT5M
ACTION:DISPLAY
DESCRIPTION:Reminder
END:VALARM
END:VEVENT
END:VCALENDAR
