BEGIN:VCALENDAR
VERSION:2.0
CALSCALE:GREGORIAN
METHOD:PUBLISH
PRODID://WGCC//1393355
BEGIN:VEVENT
DTSTAMP:20260420T184721
VTIMEZONE:America/Denver
DTSTART:20251206T150000Z
DTEND:20251206T170000Z
UID:1393355
SUMMARY:Coffee with Silt Police Department
LOCATION:Wild Coffee Roasters , 704 Main Street, Silt, CO, 81652
DESCRIPTION:Coffee with Silt Police Department\n\n12/06/25 08:00 AM MST\n - 12/06/25 10:00 AM MST\Description:\nCome enjoy coffee and conversation with officers from Silt Police Department. Silt PD will be buying your coffee. They can't wait to meet you all. \Location:\nWild Coffee Roasters \n704 Main Street\nSilt, CO 81652
X-ALT-DESC;FMTTYPE=text/html:Coffee with Silt Police Department<br /><br />12/06/25 08:00 AM MST - 12/06/25 10:00 AM MST<br />Description:<br />Come enjoy coffee and conversation with officers from Silt Police Department. Silt PD will be buying your coffee. They can't wait to meet you all.&nbsp;<br />Location:<br />Wild Coffee Roasters <br />704 Main Street<br />Silt, CO 81652
PRIORITY:3
TRANSP:TRANSPARENT
BEGIN:VALARM
TRIGGER:-PT5M
ACTION:DISPLAY
DESCRIPTION:Reminder
END:VALARM
END:VEVENT
END:VCALENDAR
