BEGIN:VCALENDAR
VERSION:2.0
CALSCALE:GREGORIAN
METHOD:PUBLISH
PRODID://WGCC//1393379
BEGIN:VEVENT
DTSTAMP:20260420T184524
VTIMEZONE:America/Denver
DTSTART:20251220T160000Z
DTEND:20251220T220000Z
UID:1393379
SUMMARY:Merry Mini Market with Wild Roots Boutique 
LOCATION:Wild Roots Boutique, 702 Main Street, Silt, CO, 81652
DESCRIPTION:Merry Mini Market with Wild Roots Boutique \n\n12/20/25 09:00 AM MST\n - 12/20/25 03:00 PM MST\Description:\nJoin Wild Roots Boutique + multi vendors for a last minute Merry Mini Market Shopping adventure. Wild Roots Boutique along with multiple other vendors will be set up inside ready to help you with your holiday shopping needs. Come down and support local businesses and shop small for this holiday season. See you there! \Location:\nWild Roots Boutique\n702 Main Street\nSilt, CO 81652
X-ALT-DESC;FMTTYPE=text/html:Merry Mini Market with Wild Roots Boutique <br /><br />12/20/25 09:00 AM MST - 12/20/25 03:00 PM MST<br />Description:<br />Join Wild Roots Boutique + multi vendors for a last minute Merry Mini Market Shopping adventure. Wild Roots Boutique along with multiple other vendors will be set up inside ready to help you with your holiday shopping needs. Come down and support local businesses and shop small for this holiday season. See you there!&nbsp;<br />Location:<br />Wild Roots Boutique<br />702 Main Street<br />Silt, CO 81652
PRIORITY:3
TRANSP:TRANSPARENT
BEGIN:VALARM
TRIGGER:-PT5M
ACTION:DISPLAY
DESCRIPTION:Reminder
END:VALARM
END:VEVENT
END:VCALENDAR
