BEGIN:VCALENDAR
VERSION:2.0
CALSCALE:GREGORIAN
METHOD:PUBLISH
PRODID://WGCC//1393411
BEGIN:VEVENT
DTSTAMP:20260420T183323
VTIMEZONE:America/Denver
DTSTART:20251215T190000Z
DTEND:20251215T203000Z
UID:1393411
SUMMARY:Ribbon Cutting for Grand Valley Mercantile
LOCATION:Grand Valley Mercantile , 135 E. 1st. Street, Parachute, CO, 81635
DESCRIPTION:Ribbon Cutting for Grand Valley Mercantile\n\n12/15/25 12:00 PM MST\n - 12/15/25 01:30 PM MST\Description:\nPlease join us in Parachute at Grand Valley Mercantile for a Ribbon Cutting. You won't want to miss this one. \Location:\nGrand Valley Mercantile \n135 E. 1st. Street\nParachute, CO 81635
X-ALT-DESC;FMTTYPE=text/html:Ribbon Cutting for Grand Valley Mercantile<br /><br />12/15/25 12:00 PM MST - 12/15/25 01:30 PM MST<br />Description:<br />Please join us in Parachute at Grand Valley Mercantile for a Ribbon Cutting. You won't want to miss this one.&nbsp;<br />Location:<br />Grand Valley Mercantile <br />135 E. 1st. Street<br />Parachute, CO 81635
PRIORITY:3
TRANSP:TRANSPARENT
BEGIN:VALARM
TRIGGER:-PT5M
ACTION:DISPLAY
DESCRIPTION:Reminder
END:VALARM
END:VEVENT
END:VCALENDAR
