BEGIN:VCALENDAR
VERSION:2.0
CALSCALE:GREGORIAN
METHOD:PUBLISH
PRODID://WGCC//1394488
BEGIN:VEVENT
DTSTAMP:20260420T185104
VTIMEZONE:America/Denver
DTSTART:20251209T210000Z
DTEND:20251209T230000Z
UID:1394488
SUMMARY:Be Empowered with B:Side
LOCATION:Colorado River Valley Chamber of Commerce, 136 East 3rd St., Rifle, CO, 81650
DESCRIPTION:Be Empowered with B:Side\n\n12/09/25 02:00 PM MST\n - 12/09/25 04:00 PM MST\Description:\nIn-person, one-on-one sessions to learn about funding and small business loan opportunities. \n\nNicole Christianson with B:Side Capital has been on the Western Slope since 2013 and she brings nearly two decades of experience helping small businesses navigate their funding options. Nicole believes every small business deserves clear, accessible education on how to obtain a small business loan. The topics will be catered specifically for each entrepreneur, including funding a startup, supporting business growth with debt, buying commercial real estate, and buying or selling a business.  You can sign up for one of four 30-minute sessions offered each month and hosted at the CRVC offices. Translation services are available upon request. Please call or email the Chamber office at (970) 625-2085 or admin@coloradorivervalleychamber.com to schedule a translator for your session. \n\nFind out more about B:Side HERE - We empower small businesses with the knowledge to secure responsible capital.\n\nMissed out this time? Sessions are offered the 2nd Tuesday of each month from 2-4pm.\Location:\nColorado River Valley Chamber of Commerce\n136 East 3rd St.\nRifle, CO 81650
X-ALT-DESC;FMTTYPE=text/html:Be Empowered with B:Side<br /><br />12/09/25 02:00 PM MST - 12/09/25 04:00 PM MST<br />Description:<br />In-person, one-on-one sessions to learn about funding and small business loan opportunities.&nbsp;<br />
<br />
Nicole Christianson with B:Side Capital has been on the Western Slope since 2013 and she brings nearly two decades of experience helping small businesses navigate their funding options. Nicole believes every small business deserves clear, accessible education on&nbsp;<u>how to obtain a small business loan</u>.&nbsp;<u>The topics will be catered specifically for</u>&nbsp;each entrepreneur, including funding a startup, supporting business growth with debt, buying commercial real estate, and&nbsp;<u>buying or selling&nbsp;</u>a business.&nbsp; You can sign up for one of four 30-minute sessions offered each month and hosted at the CRVC offices. Translation services are available upon request. Please call or email the Chamber office at (970) 625-2085 or admin@coloradorivervalleychamber.com to schedule a translator for your session.&nbsp;<br />
<br />
Find out more about B:Side&nbsp;<a href="https://www.bsidefund.org/" rel="noopener" target="_blank">HERE</a>&nbsp;-&nbsp;<u>We empower small businesses with the knowledge to secure responsible capital</u>.<br />
<br />
Missed out this time? Sessions are offered the 2nd Tuesday of each month from 2-4pm.<br />Location:<br />Colorado River Valley Chamber of Commerce<br />136 East 3rd St.<br />Rifle, CO 81650
PRIORITY:3
TRANSP:TRANSPARENT
BEGIN:VALARM
TRIGGER:-PT5M
ACTION:DISPLAY
DESCRIPTION:Reminder
END:VALARM
END:VEVENT
END:VCALENDAR
