BEGIN:VCALENDAR
VERSION:2.0
CALSCALE:GREGORIAN
METHOD:PUBLISH
PRODID://WGCC//1394607
BEGIN:VEVENT
DTSTAMP:20260420T185508
VTIMEZONE:America/Denver
DTSTART:20251217T190000Z
DTEND:20251217T203000Z
UID:1394607
SUMMARY:Rifle Speed Networking
LOCATION:Rifle Branch Library, 207 East Ave., Rifle, CO, 81650
DESCRIPTION:Rifle Speed Networking\n\n12/17/25 12:00 PM MST\n - 12/17/25 01:30 PM MST\Description:\nWe are excited to host our first Speed Networking event in Rifle. Our goal is to help businesses in the valley make meaningful connections in order to pass more business. The event is structured so people can connect with as many people as possible in a meaningful way. Think speed dating, but for businesses. \n\nAgenda:\n\n\n	Registration/Open Networking 12-12:15 PM\n	Welcome and Instructions to Maximize Time 12:16-12:20 PM\n	Speed Networking - 5 Minute Rounds 12:21-1:25 PM\n	Thank You & Close 1:26-1:30 PM\n\n\n \n\Details:\n\nCost: Free\n \nAgenda:\n\n\n	Registration/Open Networking 12-12:15 PM\n	Welcome and Instructions to Maximize Time 12:16-12:20 PM\n	Speed Networking - 5 Minute Rounds 12:21-1:25 PM\n	Thank You & Close 1:26-1:30 PM\n\n\Location:\nRifle Branch Library\n207 East Ave.\nRifle, CO 81650
X-ALT-DESC;FMTTYPE=text/html:Rifle Speed Networking<br /><br />12/17/25 12:00 PM MST - 12/17/25 01:30 PM MST<br />Description:<br /><p>We are excited to host our first Speed Networking event in Rifle.&nbsp;Our goal is to help businesses in the valley make meaningful connections in order to pass more business. The event is structured so people can connect with as many people as possible in a meaningful way. Think speed dating, but for businesses.&nbsp;<br />
<br />
Agenda:</p>

<ul>
	<li>Registration/Open Networking 12-12:15 PM</li>
	<li>Welcome and Instructions to Maximize Time 12:16-12:20 PM</li>
	<li>Speed Networking - 5 Minute Rounds 12:21-1:25 PM</li>
	<li>Thank You &amp; Close 1:26-1:30 PM</li>
</ul>

<p>&nbsp;</p>
<br />Details:<br /><br />
Cost: Free<br />
&nbsp;
<p>Agenda:</p>

<ul>
	<li>Registration/Open Networking 12-12:15 PM</li>
	<li>Welcome and Instructions to Maximize Time 12:16-12:20 PM</li>
	<li>Speed Networking - 5 Minute Rounds 12:21-1:25 PM</li>
	<li>Thank You &amp; Close 1:26-1:30 PM</li>
</ul>
<br />Location:<br />Rifle Branch Library<br />207 East Ave.<br />Rifle, CO 81650
PRIORITY:3
TRANSP:TRANSPARENT
BEGIN:VALARM
TRIGGER:-PT5M
ACTION:DISPLAY
DESCRIPTION:Reminder
END:VALARM
END:VEVENT
END:VCALENDAR
