BEGIN:VCALENDAR
VERSION:2.0
CALSCALE:GREGORIAN
METHOD:PUBLISH
PRODID://WGCC//1396877
BEGIN:VEVENT
DTSTAMP:20260420T164236
VTIMEZONE:America/Denver
DTSTART:20260114T153000Z
DTEND:20260114T173000Z
UID:1396877
SUMMARY:Board of Directors Meeting
LOCATION:Grand River Health, 501 Airport Rd, Rifle, CO, 81650
DESCRIPTION:Board of Directors Meeting\n\n01/14/26 08:30 AM MST\n - 01/14/26 10:30 AM MST\Description:\nWe hold our CRVCC Board Meetings every second Wednesday of the month. You are welcome to attend in person or via zoom. Zoom link is attached. \n\nhttps://www.google.com/url?q=https://us02web.zoom.us/j/84073024074?pwd%3D548rwTh33QuuF7eliI9wLa3cghZZ5r.1&sa=D&source=calendar&usd=2&usg=AOvVaw35tvdPhgzljxdaPeFolE28\nâ€‹\nMeeting ID: 840 7302 4074\nPasscode: 121945\Location:\nGrand River Health\n501 Airport Rd\nRifle, CO 81650
X-ALT-DESC;FMTTYPE=text/html:Board of Directors Meeting<br /><br />01/14/26 08:30 AM MST - 01/14/26 10:30 AM MST<br />Description:<br />We hold our CRVCC Board Meetings every second Wednesday of the month. You are welcome to attend in person or via zoom. Zoom link is attached.&nbsp;<br />
<br />
https://www.google.com/url?q=https://us02web.zoom.us/j/84073024074?pwd%3D548rwTh33QuuF7eliI9wLa3cghZZ5r.1&amp;sa=D&amp;source=calendar&amp;usd=2&amp;usg=AOvVaw35tvdPhgzljxdaPeFolE28<br />
â€‹<br />
Meeting ID: 840 7302 4074<br />
Passcode: 121945<br />Location:<br />Grand River Health<br />501 Airport Rd<br />Rifle, CO 81650
PRIORITY:3
TRANSP:TRANSPARENT
BEGIN:VALARM
TRIGGER:-PT5M
ACTION:DISPLAY
DESCRIPTION:Reminder
END:VALARM
END:VEVENT
END:VCALENDAR
