BEGIN:VCALENDAR
VERSION:2.0
CALSCALE:GREGORIAN
METHOD:PUBLISH
PRODID://WGCC//1396885
BEGIN:VEVENT
DTSTAMP:20260420T164124
VTIMEZONE:America/Denver
DTSTART:20260121T190000Z
DTEND:20260121T203000Z
UID:1396885
SUMMARY:Ambassador Meeting
LOCATION:CMC Rifle Campus, 3695 Airport Road, Rifle, CO, 81650
DESCRIPTION:Ambassador Meeting\n\n01/21/26 12:00 PM MST\n - 01/21/26 01:30 PM MST\Description:\nThe Colorado River Valley Chamber of Commerce Ambassadors play a crucial role in bridging the gap between the Chamber, its members, and the broader community. Ambassadors are volunteer representatives who actively promote Chamber membership, assist in member retention, and support various Chamber events and initiatives. They alsoprovide scholarships to local high school students. Come join and find out if this would be the right fit for you. \Location:\nCMC Rifle Campus\n3695 Airport Road\nRifle, CO 81650
X-ALT-DESC;FMTTYPE=text/html:Ambassador Meeting<br /><br />01/21/26 12:00 PM MST - 01/21/26 01:30 PM MST<br />Description:<br /><strong>The Colorado River Valley Chamber of Commerce Ambassadors play a crucial role in bridging the gap between the Chamber, its members, and the broader community. Ambassadors are volunteer representatives who actively promote Chamber membership, assist in member retention, and support various Chamber events and initiatives. They alsoprovide scholarships to local high school students. Come join and find out if this would be the right fit for you.&nbsp;</strong><br />Location:<br />CMC Rifle Campus<br />3695 Airport Road<br />Rifle, CO 81650
PRIORITY:3
TRANSP:TRANSPARENT
BEGIN:VALARM
TRIGGER:-PT5M
ACTION:DISPLAY
DESCRIPTION:Reminder
END:VALARM
END:VEVENT
END:VCALENDAR
