BEGIN:VCALENDAR
VERSION:2.0
CALSCALE:GREGORIAN
METHOD:PUBLISH
PRODID://WGCC//1397543
BEGIN:VEVENT
DTSTAMP:20260420T183323
VTIMEZONE:America/Denver
DTSTART:20251222T190000Z
DTEND:20251229T210000Z
UID:1397543
SUMMARY:Winter Break Drop Off for Kids!
LOCATION:Rifle Climbing Center, 139 W. 3rd St., Rifle, Co, 81650
DESCRIPTION:Winter Break Drop Off for Kids!\n\n12/22/25 12:00 PM MST\n - 12/29/25 02:00 PM MST\Description:\nLooking for a fun and active way to keep the kids busy during winter break?  Our Winter Break Drop Off offers supervised climbing, games, and creative activities guided by instructors - all in a safe, welcoming environment. \n\nAges 5-13 years old\n\nDec 22 and 29, 12-2pm\n\n$25 Non-Members / $20 Members (per session)\n\nRegister now and give your kids a winter adventure they'll love!\n\n(970) 781-2071\n\n¿Buscas una forma divertida y activa de mantener a los niños ocupados durante las vacaciones de invierno? â›„ï¸\nNuestra clase de escalada durante las vacaciones de invierno ofrece escalada supervisada, juegos y actividades creativas, todo ello en un entorno seguro y agradable.\n\nðŸ§— Edades: de 5 a 13 años.\nðŸ“… 22 y 29 de diciembre | 12:00-14:00.\nðŸ’² 25 $ para no socios | 20 $ para socios (por sesión).\n\nâœ¨ Inscríbete ahora y regala a tus hijos una aventura invernal que les encantará:\nðŸ“ž (970) 781-2071\n\n \n\Details:\nLooking for a fun and active way to keep the kids busy during winter break?  Our Winter Break Drop Off offers supervised climbing, games, and creative activities guided by instructors - all in a safe, welcoming environment. \n\nAges 5-13 years old\n\nDec 22 and 29, 12-2pm\n\n$25 Non-Members / $20 Members (per session)\n\nRegister now and give your kids a winter adventure they'll love!\n\n(970) 781-2071\n\n¿Buscas una forma divertida y activa de mantener a los niños ocupados durante las vacaciones de invierno? â›„ï¸\nNuestra clase de escalada durante las vacaciones de invierno ofrece escalada supervisada, juegos y actividades creativas, todo ello en un entorno seguro y agradable.\n\nðŸ§— Edades: de 5 a 13 años.\nðŸ“… 22 y 29 de diciembre | 12:00-14:00.\nðŸ’² 25 $ para no socios | 20 $ para socios (por sesión).\n\nâœ¨ Inscríbete ahora y regala a tus hijos una aventura invernal que les encantará:\nðŸ“ž (970) 781-2071\n\Location:\nRifle Climbing Center\n139 W. 3rd St.\nRifle, Co 81650
X-ALT-DESC;FMTTYPE=text/html:Winter Break Drop Off for Kids!<br /><br />12/22/25 12:00 PM MST - 12/29/25 02:00 PM MST<br />Description:<br /><p>Looking for a fun and active way to keep the kids busy during winter break? &nbsp;Our Winter Break Drop Off offers supervised climbing, games, and creative activities guided by instructors - all in a safe, welcoming environment.&nbsp;</p>

<p>Ages 5-13 years old</p>

<p>Dec 22 and 29, 12-2pm</p>

<p>$25 Non-Members / $20 Members (per session)</p>

<p>Register now and give your kids a winter adventure they'll love!</p>

<p>(970) 781-2071<br />
<br />
<span style="font-family:arial,helvetica,sans-serif">&iquest;Buscas una forma divertida y activa de mantener a los ni&ntilde;os ocupados durante las vacaciones de invierno? â›„ï¸<br />
Nuestra clase de escalada durante las vacaciones de invierno ofrece escalada supervisada, juegos y actividades creativas, todo ello en un entorno seguro y agradable.<br />
<br />
ðŸ§— Edades: de 5 a 13 a&ntilde;os.<br />
ðŸ“… 22 y 29 de diciembre | 12:00-14:00.<br />
ðŸ’² 25 $ para no socios | 20 $ para socios (por sesi&oacute;n).<br />
<br />
âœ¨ Inscr&iacute;bete ahora y regala a tus hijos una aventura invernal que les encantar&aacute;:<br />
ðŸ“ž (970) 781-2071</span></p>

<p>&nbsp;</p>
<br />Details:<br /><p>Looking for a fun and active way to keep the kids busy during winter break? &nbsp;Our Winter Break Drop Off offers supervised climbing, games, and creative activities guided by instructors - all in a safe, welcoming environment.&nbsp;</p>

<p>Ages 5-13 years old</p>

<p>Dec 22 and 29, 12-2pm</p>

<p>$25 Non-Members / $20 Members (per session)</p>

<p>Register now and give your kids a winter adventure they'll love!</p>

<p>(970) 781-2071<br />
<br />
<span style="font-family:arial,helvetica,sans-serif">&iquest;Buscas una forma divertida y activa de mantener a los ni&ntilde;os ocupados durante las vacaciones de invierno? â›„ï¸<br />
Nuestra clase de escalada durante las vacaciones de invierno ofrece escalada supervisada, juegos y actividades creativas, todo ello en un entorno seguro y agradable.<br />
<br />
ðŸ§— Edades: de 5 a 13 a&ntilde;os.<br />
ðŸ“… 22 y 29 de diciembre | 12:00-14:00.<br />
ðŸ’² 25 $ para no socios | 20 $ para socios (por sesi&oacute;n).<br />
<br />
âœ¨ Inscr&iacute;bete ahora y regala a tus hijos una aventura invernal que les encantar&aacute;:<br />
ðŸ“ž (970) 781-2071</span></p>
<br />Location:<br />Rifle Climbing Center<br />139 W. 3rd St.<br />Rifle, Co 81650
PRIORITY:3
TRANSP:TRANSPARENT
BEGIN:VALARM
TRIGGER:-PT5M
ACTION:DISPLAY
DESCRIPTION:Reminder
END:VALARM
END:VEVENT
END:VCALENDAR
