BEGIN:VCALENDAR
VERSION:2.0
CALSCALE:GREGORIAN
METHOD:PUBLISH
PRODID://WGCC//1400272
BEGIN:VEVENT
DTSTAMP:20260420T183323
VTIMEZONE:America/Denver
DTSTART:20251229T190000Z
DTEND:20251229T210000Z
UID:1400272
SUMMARY:Winter Break Drop Off!
LOCATION:Rifle Climbing Center, 139 W. 3rd St., Rifle, Co, 81650
DESCRIPTION:Winter Break Drop Off!\n\n12/29/25 12:00 PM MST\n - 12/29/25 02:00 PM MST\Description:\nLooking for a fun and active way to keep the kids busy during winter break? â›„ï¸\nOur Winter Break Drop-Off offers supervised climbing, games, and creative activities — all in a safe, welcoming environment.\n\nðŸ§— Ages 5–13\nðŸ“… Dec 22 & 29 | 12–2 PM\nðŸ’² $25 Non-Members | $20 Members (per session)\n\nâœ¨ Register now and give your kids a winter adventure they’ll love:\nðŸ“ž (970) 781-2071\n\n¿Buscas una forma divertida y activa de mantener a los niños ocupados durante las vacaciones de invierno? â›„ï¸\nNuestra clase de escalada durante las vacaciones de invierno ofrece escalada supervisada, juegos y actividades creativas, todo ello en un entorno seguro y agradable.\n\nðŸ§— Edades: de 5 a 13 años.\nðŸ“… 22 y 29 de diciembre | 12:00-14:00.\nðŸ’² 25 $ para no socios | 20 $ para socios (por sesión).\n\nâœ¨ Inscríbete ahora y regala a tus hijos una aventura invernal que les encantará:\nðŸ“ž (970) 781-2071\Details:\n$25 per person. \Location:\nRifle Climbing Center\n139 W. 3rd St.\nRifle, Co 81650
X-ALT-DESC;FMTTYPE=text/html:Winter Break Drop Off!<br /><br />12/29/25 12:00 PM MST - 12/29/25 02:00 PM MST<br />Description:<br />Looking for a fun and active way to keep the kids busy during winter break? â›„ï¸<br />
Our Winter Break Drop-Off offers supervised climbing, games, and creative activities &mdash; all in a safe, welcoming environment.<br />
<br />
ðŸ§— Ages 5&ndash;13<br />
ðŸ“… Dec 22 &amp; 29 | 12&ndash;2 PM<br />
ðŸ’² $25 Non-Members | $20 Members (per session)<br />
<br />
âœ¨ Register now and give your kids a winter adventure they&rsquo;ll love:<br />
ðŸ“ž (970) 781-2071<br />
<br />
&iquest;Buscas una forma divertida y activa de mantener a los ni&ntilde;os ocupados durante las vacaciones de invierno? â›„ï¸<br />
Nuestra clase de escalada durante las vacaciones de invierno ofrece escalada supervisada, juegos y actividades creativas, todo ello en un entorno seguro y agradable.<br />
<br />
ðŸ§— Edades: de 5 a 13 a&ntilde;os.<br />
ðŸ“… 22 y 29 de diciembre | 12:00-14:00.<br />
ðŸ’² 25 $ para no socios | 20 $ para socios (por sesi&oacute;n).<br />
<br />
âœ¨ Inscr&iacute;bete ahora y regala a tus hijos una aventura invernal que les encantar&aacute;:<br />
ðŸ“ž (970) 781-2071<br />Details:<br />$25 per person.&nbsp;<br />Location:<br />Rifle Climbing Center<br />139 W. 3rd St.<br />Rifle, Co 81650
PRIORITY:3
TRANSP:TRANSPARENT
BEGIN:VALARM
TRIGGER:-PT5M
ACTION:DISPLAY
DESCRIPTION:Reminder
END:VALARM
END:VEVENT
END:VCALENDAR
