BEGIN:VCALENDAR
VERSION:2.0
CALSCALE:GREGORIAN
METHOD:PUBLISH
PRODID://WGCC//1400275
BEGIN:VEVENT
DTSTAMP:20260420T151429
VTIMEZONE:America/Denver
DTSTART:20260114T013000Z
DTEND:20260114T023000Z
UID:1400275
SUMMARY:FREE!  Intro to Climbing Class
LOCATION:Rifle Climbing Center, 139 W. 3rd St., Rifle, CO, 81650
DESCRIPTION:FREE!  Intro to Climbing Class\n\n01/13/26 06:30 PM MST\n - 01/13/26 07:30 PM MST\Description:\nKick-Start Your New Year with Rifle Climbing Center\n\nLooking for a fun, approachable way to get moving in the New Year? If your New Year’s resolution is to exercise more, try something new, or build a healthier routine, this class is for you!\n\nJoin us for a FREE Intro to Climbing Class, designed specifically for beginners — no experience required. Climbing is a full-body workout that builds strength, balance, and confidence, all while having fun and staying engaged. Ages 14 and up welcome!\n\nðŸ§  What you’ll learn:\n\n• Introduction to indoor climbing\n• Basic movement and body positioning\n• How to fall safely and use equipment\n• Understanding climbing grades and difficulty\n• Tips to help you continue climbing confidently\n• And more!\n\nðŸ“… Class Dates (choose one):\n\n• Tuesday, January 13\n• Tuesday, February 10\nðŸ•¡ Time: 6:30–7:30 PM\n\nðŸŽ Free Perks for Participants:\n\n• Free Buddy Pass – bring a friend next time for free\n• VIP Punch Pass Offer – 5 visits for $50 (available only to class participants)\n\nðŸ“ Rifle Climbing Center\nðŸ“ž (970) 781-2071\nðŸŒ www.rifleclimbingcenter.com\n\nðŸ“§ rifleclimbingcenter@outlook.com\n\nâœ¨ Start your year strong with a workout you’ll actually enjoy.\nâš ï¸ Space is limited — registration required!\Details:\nKick-Start Your New Year with Rifle Climbing Center\n\nLooking for a fun, approachable way to get moving in the New Year? If your New Year’s resolution is to exercise more, try something new, or build a healthier routine, this class is for you!\n\nJoin us for a FREE Intro to Climbing Class, designed specifically for beginners — no experience required. Climbing is a full-body workout that builds strength, balance, and confidence, all while having fun and staying engaged. Ages 14 and up welcome!\n\nðŸ§  What you’ll learn:\n\n• Introduction to indoor climbing\n• Basic movement and body positioning\n• How to fall safely and use equipment\n• Understanding climbing grades and difficulty\n• Tips to help you continue climbing confidently\n• And more!\n\nðŸ“… Class Dates (choose one):\n\n• Tuesday, January 13\n• Tuesday, February 10\nðŸ•¡ Time: 6:30–7:30 PM\n\nðŸŽ Free Perks for Participants:\n\n• Free Buddy Pass – bring a friend next time for free\n• VIP Punch Pass Offer – 5 visits for $50 (available only to class participants)\n\nðŸ“ Rifle Climbing Center\nðŸ“ž (970) 781-2071\nðŸŒ www.rifleclimbingcenter.com\n\nðŸ“§ rifleclimbingcenter@outlook.com\n\nâœ¨ Start your year strong with a workout you’ll actually enjoy.\nâš ï¸ Space is limited — registration required!\Location:\nRifle Climbing Center\n139 W. 3rd St.\nRifle, CO 81650
X-ALT-DESC;FMTTYPE=text/html:FREE!  Intro to Climbing Class<br /><br />01/13/26 06:30 PM MST - 01/13/26 07:30 PM MST<br />Description:<br />Kick-Start Your New Year with Rifle Climbing Center<br />
<br />
Looking for a fun, approachable way to get moving in the New Year? If your New Year&rsquo;s resolution is to exercise more, try something new, or build a healthier routine, this class is for you!<br />
<br />
Join us for a FREE Intro to Climbing Class, designed specifically for beginners &mdash; no experience required. Climbing is a full-body workout that builds strength, balance, and confidence, all while having fun and staying engaged. Ages 14 and up welcome!<br />
<br />
ðŸ§  What you&rsquo;ll learn:<br />
<br />
&bull; Introduction to indoor climbing<br />
&bull; Basic movement and body positioning<br />
&bull; How to fall safely and use equipment<br />
&bull; Understanding climbing grades and difficulty<br />
&bull; Tips to help you continue climbing confidently<br />
&bull; And more!<br />
<br />
ðŸ“… Class Dates (choose one):<br />
<br />
&bull; Tuesday, January 13<br />
&bull; Tuesday, February 10<br />
ðŸ•¡ Time: 6:30&ndash;7:30 PM<br />
<br />
ðŸŽ Free Perks for Participants:<br />
<br />
&bull; Free Buddy Pass &ndash; bring a friend next time for free<br />
&bull; VIP Punch Pass Offer &ndash; 5 visits for $50 (available only to class participants)<br />
<br />
ðŸ“ Rifle Climbing Center<br />
ðŸ“ž (970) 781-2071<br />
ðŸŒ www.rifleclimbingcenter.com<br />
<br />
ðŸ“§ rifleclimbingcenter@outlook.com<br />
<br />
âœ¨ Start your year strong with a workout you&rsquo;ll actually enjoy.<br />
âš ï¸ Space is limited &mdash; registration required!<br />Details:<br />Kick-Start Your New Year with Rifle Climbing Center<br />
<br />
Looking for a fun, approachable way to get moving in the New Year? If your New Year&rsquo;s resolution is to exercise more, try something new, or build a healthier routine, this class is for you!<br />
<br />
Join us for a FREE Intro to Climbing Class, designed specifically for beginners &mdash; no experience required. Climbing is a full-body workout that builds strength, balance, and confidence, all while having fun and staying engaged. Ages 14 and up welcome!<br />
<br />
ðŸ§  What you&rsquo;ll learn:<br />
<br />
&bull; Introduction to indoor climbing<br />
&bull; Basic movement and body positioning<br />
&bull; How to fall safely and use equipment<br />
&bull; Understanding climbing grades and difficulty<br />
&bull; Tips to help you continue climbing confidently<br />
&bull; And more!<br />
<br />
ðŸ“… Class Dates (choose one):<br />
<br />
&bull; Tuesday, January 13<br />
&bull; Tuesday, February 10<br />
ðŸ•¡ Time: 6:30&ndash;7:30 PM<br />
<br />
ðŸŽ Free Perks for Participants:<br />
<br />
&bull; Free Buddy Pass &ndash; bring a friend next time for free<br />
&bull; VIP Punch Pass Offer &ndash; 5 visits for $50 (available only to class participants)<br />
<br />
ðŸ“ Rifle Climbing Center<br />
ðŸ“ž (970) 781-2071<br />
ðŸŒ www.rifleclimbingcenter.com<br />
<br />
ðŸ“§ rifleclimbingcenter@outlook.com<br />
<br />
âœ¨ Start your year strong with a workout you&rsquo;ll actually enjoy.<br />
âš ï¸ Space is limited &mdash; registration required!<br />Location:<br />Rifle Climbing Center<br />139 W. 3rd St.<br />Rifle, CO 81650
PRIORITY:3
TRANSP:TRANSPARENT
BEGIN:VALARM
TRIGGER:-PT5M
ACTION:DISPLAY
DESCRIPTION:Reminder
END:VALARM
END:VEVENT
END:VCALENDAR
