BEGIN:VCALENDAR
VERSION:2.0
CALSCALE:GREGORIAN
METHOD:PUBLISH
PRODID://WGCC//1400744
BEGIN:VEVENT
DTSTAMP:20260420T171528
VTIMEZONE:America/Denver
DTSTART:20260109T190000Z
DTEND:20260130T210000Z
UID:1400744
SUMMARY:Friday Climbing Club!  Fridays in January
LOCATION:Rifle Climbing Center, 139 W. 3rd St., Rifle, CO, 81650
DESCRIPTION:Friday Climbing Club!  Fridays in January\n\n01/09/26 12:00 PM MST\n - 01/30/26 02:00 PM MST\Description:\nFridays Are for Climbing! ðŸ§—‍â™‚ï¸ðŸŽ‰\n\nLooking for a fun, active way to keep your kids engaged on Fridays? Join us for Friday Climbing Club, happening every Friday from January 9 - 30, designed just for kids!\n\nDuring this instructor-led session, kids will learn essential climbing safety tips, build basic movement skills, play games, and - most importantly - have a blast on the wall.\n\nðŸ“… Every Friday | Jan 9–30\nâ° 12:00–2:00 PM\nðŸ’² $65 members | $75 non-members\n\nPerfect for kids who want to learn, move, and climb with friends in a supportive environment.\n\nðŸ‘‰ Spots are limited - sign up today!\nðŸ“§ rifleclimbingcenter@outlook.com\nðŸ“ž (970) 781-2071\n\n¡Los viernes son para escalar! ðŸ§—‍â™‚ï¸ðŸŽ‰\n\n¿Buscas una forma divertida y activa de mantener a tus hijos entretenidos los viernes? ¡Únete a nuestro Club de Escalada de los Viernes, que se celebra todos los viernes del 9 al 30 de enero y está diseñado especialmente para niños!\n\nDurante esta sesión dirigida por un instructor, los niños aprenderán consejos esenciales de seguridad para escalar, desarrollarán habilidades motrices básicas, participarán en juegos y, lo más importante, se lo pasarán en grande en el gimnasio.\n\nðŸ“… Todos los viernes | 9-30 de enero\nâ° 12:00-14:00\nðŸ’² 65 $ para miembros | 75 $ para no miembros\n\nPerfecto para niños que quieren aprender, moverse y escalar con amigos en un ambiente agradable.\n\nðŸ‘‰ Las plazas son limitadas, ¡inscríbate hoy mismo!\nðŸ“§ rifleclimbingcenter@outlook.com\nðŸ“ž (970) 781-2071\Details:\nFridays Are for Climbing! ðŸ§—‍â™‚ï¸ðŸŽ‰\n\nLooking for a fun, active way to keep your kids engaged on Fridays? Join us for Friday Climbing Club, happening every Friday from January 9 - 30, designed just for kids!\n\nDuring this instructor-led session, kids will learn essential climbing safety tips, build basic movement skills, play games, and - most importantly - have a blast on the wall.\n\nðŸ“… Every Friday | Jan 9–30\nâ° 12:00–2:00 PM\nðŸ’² $65 members | $75 non-members\n\nPerfect for kids who want to learn, move, and climb with friends in a supportive environment.\n\nðŸ‘‰ Spots are limited - sign up today!\nðŸ“§ rifleclimbingcenter@outlook.com\nðŸ“ž (970) 781-2071\n\n¡Los viernes son para escalar! ðŸ§—‍â™‚ï¸ðŸŽ‰\n\n¿Buscas una forma divertida y activa de mantener a tus hijos entretenidos los viernes? ¡Únete a nuestro Club de Escalada de los Viernes, que se celebra todos los viernes del 9 al 30 de enero y está diseñado especialmente para niños!\n\nDurante esta sesión dirigida por un instructor, los niños aprenderán consejos esenciales de seguridad para escalar, desarrollarán habilidades motrices básicas, participarán en juegos y, lo más importante, se lo pasarán en grande en el gimnasio.\n\nðŸ“… Todos los viernes | 9-30 de enero\nâ° 12:00-14:00\nðŸ’² 65 $ para miembros | 75 $ para no miembros\n\nPerfecto para niños que quieren aprender, moverse y escalar con amigos en un ambiente agradable.\n\nðŸ‘‰ Las plazas son limitadas, ¡inscríbate hoy mismo!\nðŸ“§ rifleclimbingcenter@outlook.com\nðŸ“ž (970) 781-2071\n \Location:\nRifle Climbing Center\n139 W. 3rd St.\nRifle, CO 81650
X-ALT-DESC;FMTTYPE=text/html:Friday Climbing Club!  Fridays in January<br /><br />01/09/26 12:00 PM MST - 01/30/26 02:00 PM MST<br />Description:<br />Fridays Are for Climbing! ðŸ§—&zwj;â™‚ï¸ðŸŽ‰<br />
<br />
Looking for a fun, active way to keep your kids engaged on Fridays? Join us for Friday Climbing Club, happening every Friday from January 9 - 30, designed just for kids!<br />
<br />
During this instructor-led session, kids will learn essential climbing safety tips, build basic movement skills, play games, and - most importantly - have a blast on the wall.<br />
<br />
ðŸ“… Every Friday | Jan 9&ndash;30<br />
â° 12:00&ndash;2:00 PM<br />
ðŸ’² $65 members | $75 non-members<br />
<br />
Perfect for kids who want to learn, move, and climb with friends in a supportive environment.<br />
<br />
ðŸ‘‰ Spots are limited - sign up today!<br />
ðŸ“§ rifleclimbingcenter@outlook.com<br />
ðŸ“ž (970) 781-2071<br />
<br />
&iexcl;Los viernes son para escalar! ðŸ§—&zwj;â™‚ï¸ðŸŽ‰<br />
<br />
&iquest;Buscas una forma divertida y activa de mantener a tus hijos entretenidos los viernes? &iexcl;&Uacute;nete a nuestro Club de Escalada de los Viernes, que se celebra todos los viernes del 9 al 30 de enero y est&aacute; dise&ntilde;ado especialmente para ni&ntilde;os!<br />
<br />
Durante esta sesi&oacute;n dirigida por un instructor, los ni&ntilde;os aprender&aacute;n consejos esenciales de seguridad para escalar, desarrollar&aacute;n habilidades motrices b&aacute;sicas, participar&aacute;n en juegos y, lo m&aacute;s importante, se lo pasar&aacute;n en grande en el gimnasio.<br />
<br />
ðŸ“… Todos los viernes | 9-30 de enero<br />
â° 12:00-14:00<br />
ðŸ’² 65 $ para miembros | 75 $ para no miembros<br />
<br />
Perfecto para ni&ntilde;os que quieren aprender, moverse y escalar con amigos en un ambiente agradable.<br />
<br />
ðŸ‘‰ Las plazas son limitadas, &iexcl;inscr&iacute;bate hoy mismo!<br />
ðŸ“§ rifleclimbingcenter@outlook.com<br />
ðŸ“ž (970) 781-2071<br />Details:<br />Fridays Are for Climbing! ðŸ§—&zwj;â™‚ï¸ðŸŽ‰<br />
<br />
Looking for a fun, active way to keep your kids engaged on Fridays? Join us for Friday Climbing Club, happening every Friday from January 9 - 30, designed just for kids!<br />
<br />
During this instructor-led session, kids will learn essential climbing safety tips, build basic movement skills, play games, and - most importantly - have a blast on the wall.<br />
<br />
ðŸ“… Every Friday | Jan 9&ndash;30<br />
â° 12:00&ndash;2:00 PM<br />
ðŸ’² $65 members | $75 non-members<br />
<br />
Perfect for kids who want to learn, move, and climb with friends in a supportive environment.<br />
<br />
ðŸ‘‰ Spots are limited - sign up today!<br />
ðŸ“§ rifleclimbingcenter@outlook.com<br />
ðŸ“ž (970) 781-2071<br />
<br />
&iexcl;Los viernes son para escalar! ðŸ§—&zwj;â™‚ï¸ðŸŽ‰<br />
<br />
&iquest;Buscas una forma divertida y activa de mantener a tus hijos entretenidos los viernes? &iexcl;&Uacute;nete a nuestro Club de Escalada de los Viernes, que se celebra todos los viernes del 9 al 30 de enero y est&aacute; dise&ntilde;ado especialmente para ni&ntilde;os!<br />
<br />
Durante esta sesi&oacute;n dirigida por un instructor, los ni&ntilde;os aprender&aacute;n consejos esenciales de seguridad para escalar, desarrollar&aacute;n habilidades motrices b&aacute;sicas, participar&aacute;n en juegos y, lo m&aacute;s importante, se lo pasar&aacute;n en grande en el gimnasio.<br />
<br />
ðŸ“… Todos los viernes | 9-30 de enero<br />
â° 12:00-14:00<br />
ðŸ’² 65 $ para miembros | 75 $ para no miembros<br />
<br />
Perfecto para ni&ntilde;os que quieren aprender, moverse y escalar con amigos en un ambiente agradable.<br />
<br />
ðŸ‘‰ Las plazas son limitadas, &iexcl;inscr&iacute;bate hoy mismo!<br />
ðŸ“§ rifleclimbingcenter@outlook.com<br />
ðŸ“ž (970) 781-2071<br />
&nbsp;<br />Location:<br />Rifle Climbing Center<br />139 W. 3rd St.<br />Rifle, CO 81650
PRIORITY:3
TRANSP:TRANSPARENT
BEGIN:VALARM
TRIGGER:-PT5M
ACTION:DISPLAY
DESCRIPTION:Reminder
END:VALARM
END:VEVENT
END:VCALENDAR
