BEGIN:VCALENDAR
VERSION:2.0
CALSCALE:GREGORIAN
METHOD:PUBLISH
PRODID://WGCC//1400908
BEGIN:VEVENT
DTSTAMP:20260420T165229
VTIMEZONE:America/Denver
DTSTART:20260107T190000Z
DTEND:20260107T203000Z
UID:1400908
SUMMARY:Business Bites Lunch
LOCATION:Rib City - Rifle, 707 Wapiti Ct , Rifle, CO, 81650
DESCRIPTION:Business Bites Lunch\n\n01/07/26 12:00 PM MST\n - 01/07/26 01:30 PM MST\Description:\nJoin us for a brand NEW Chamber event designed to help you grow your business connections and expand your referral network! \nThe location will change monthly and the small fee will cover your lunch. \nThis is a relaxed, engaging environment made for you to meet and connect with other businesses. Expect to give a short introduction about who you are, what your business offers and connections you are seeking. \nWhether you are looking to generate leads, build trust with other members or simply expand your professional circle, this lunch is for you!\Location:\nRib City - Rifle\n707 Wapiti Ct \nRifle, CO 81650
X-ALT-DESC;FMTTYPE=text/html:Business Bites Lunch<br /><br />01/07/26 12:00 PM MST - 01/07/26 01:30 PM MST<br />Description:<br /><span style="font-family:arial,helvetica,sans-serif">Join us for a brand NEW Chamber event designed to help you grow your business connections and expand your referral network!&nbsp;<br />
The location will change monthly and the small fee will cover your lunch.&nbsp;<br />
This is a relaxed, engaging environment made for you to meet and connect with other businesses. Expect to give a short introduction about who you are, what your business offers and connections you are seeking.&nbsp;<br />
Whether you are looking to generate leads, build trust with other members or simply expand your professional circle, this lunch is for you!</span><br />Location:<br />Rib City - Rifle<br />707 Wapiti Ct <br />Rifle, CO 81650
PRIORITY:3
TRANSP:TRANSPARENT
BEGIN:VALARM
TRIGGER:-PT5M
ACTION:DISPLAY
DESCRIPTION:Reminder
END:VALARM
END:VEVENT
END:VCALENDAR
