BEGIN:VCALENDAR
VERSION:2.0
CALSCALE:GREGORIAN
METHOD:PUBLISH
PRODID://WGCC//1404712
BEGIN:VEVENT
DTSTAMP:20260420T165743
VTIMEZONE:America/Denver
DTSTART:20260116T003000Z
DTEND:20260116T020000Z
UID:1404712
SUMMARY:Business After Hours with Guild Mortgage & Victory Mountain Properties
LOCATION:Summit Legacy, 589 Last Chance Drive, Rifle, CO, 81650
DESCRIPTION:Business After Hours with Guild Mortgage & Victory Mountain Properties\n\n01/15/26 05:30 PM MST\n - 01/15/26 07:00 PM MST\Description:\nThis Business After Hours is a fun one! Jump into the new year with a vision board party. See you there.\Location:\nSummit Legacy\n589 Last Chance Drive\nRifle, CO 81650
X-ALT-DESC;FMTTYPE=text/html:Business After Hours with Guild Mortgage & Victory Mountain Properties<br /><br />01/15/26 05:30 PM MST - 01/15/26 07:00 PM MST<br />Description:<br />This Business After Hours is a fun one! Jump into the new year with a vision board party. See you there.<br />Location:<br />Summit Legacy<br />589 Last Chance Drive<br />Rifle, CO 81650
PRIORITY:3
TRANSP:TRANSPARENT
BEGIN:VALARM
TRIGGER:-PT5M
ACTION:DISPLAY
DESCRIPTION:Reminder
END:VALARM
END:VEVENT
END:VCALENDAR
