BEGIN:VCALENDAR
VERSION:2.0
CALSCALE:GREGORIAN
METHOD:PUBLISH
PRODID://WGCC//1404716
BEGIN:VEVENT
DTSTAMP:20260420T164048
VTIMEZONE:America/Denver
DTSTART:20260115T003000Z
DTEND:20260115T020000Z
UID:1404716
SUMMARY:CRVC Workshop
LOCATION:Garfield County Public Library-Rifle, 207 East Ave, Rifle, CO, 81650
DESCRIPTION:CRVC Workshop\n\n01/14/26 05:30 PM MST\n - 01/14/26 07:00 PM MST\Description:\nNew Year, New Marketing: Grow Your Audience & Get Seen\n\nKick off the new year with fresh strategies to elevate your brand and grow your business. Join us for an inspiring workshop hosted with Independent World, our marketing gurus, designed to help business owners, entrepreneurs and creatives stand out in a crowded digital space!\n\nThis practical session will explore proven ways to expand your audience, strengthen your online presence, and turn visibility into real business growth. From mastering platforms like Facebook & LinkedIn to understanding what content truly connects, you’ll gain actionable insights you can implement immediately.\n\nWhether you’re looking to boost engagement, attract the right customers or refine your digital marketing approach, this workshop will give you the tools, confidence, and clarity to make your business more visible and impactful in the year ahead.\n\Location:\nGarfield County Public Library-Rifle\n207 East Ave\nRifle, CO 81650
X-ALT-DESC;FMTTYPE=text/html:CRVC Workshop<br /><br />01/14/26 05:30 PM MST - 01/14/26 07:00 PM MST<br />Description:<br /><p data-end="226" data-start="168"><strong data-end="226" data-start="168">New Year, New Marketing: Grow Your Audience &amp; Get Seen</strong></p>

<p data-end="513" data-start="228">Kick off the new year with fresh strategies to elevate your brand and grow your business. Join us for an inspiring workshop hosted with <em data-end="383" data-start="364">Independent World,</em><em data-end="383" data-start="364">&nbsp;</em>our marketing gurus, designed to help business owners, entrepreneurs&nbsp;and creatives stand out in a crowded digital space!</p>

<p data-end="832" data-start="515">This practical session will explore proven ways to expand your audience, strengthen your online presence, and turn visibility into real business growth. From mastering platforms like Facebook &amp; LinkedIn&nbsp;to understanding what content truly connects, you&rsquo;ll gain actionable insights you can implement immediately.</p>

<p data-end="1080" data-start="834">Whether you&rsquo;re looking to boost engagement, attract the right customers&nbsp;or refine your digital marketing approach, this workshop will give you the tools, confidence, and clarity to make your business more visible and impactful in the year ahead.</p>
<br />Location:<br />Garfield County Public Library-Rifle<br />207 East Ave<br />Rifle, CO 81650
PRIORITY:3
TRANSP:TRANSPARENT
BEGIN:VALARM
TRIGGER:-PT5M
ACTION:DISPLAY
DESCRIPTION:Reminder
END:VALARM
END:VEVENT
END:VCALENDAR
