BEGIN:VCALENDAR
VERSION:2.0
CALSCALE:GREGORIAN
METHOD:PUBLISH
PRODID://WGCC//1404986
BEGIN:VEVENT
DTSTAMP:20260420T132916
VTIMEZONE:America/Denver
DTSTART:20260304T190000Z
DTEND:20260304T203000Z
UID:1404986
SUMMARY:Business Bites Lunch-March
LOCATION:Miner's Claim Restaurant , 740 Main St, Silt, CO, 81652
DESCRIPTION:Business Bites Lunch-March\n\n03/04/26 12:00 PM MST\n - 03/04/26 01:30 PM MST\Description:\nJoin us for a brand NEW Chamber event designed to help you grow your business connections and expand your referral network! \nThe location will change monthly and the small fee will cover your lunch. \nThis is a relaxed, engaging environment made for you to meet and connect with other businesses. Expect to give a short introduction about who you are, what your business offers and connections you are seeking. \nWhether you are looking to generate leads, build trust with other members or simply expand your professional circle, this lunch is for you!\Location:\nMiner's Claim Restaurant \n740 Main St\nSilt, CO 81652
X-ALT-DESC;FMTTYPE=text/html:Business Bites Lunch-March<br /><br />03/04/26 12:00 PM MST - 03/04/26 01:30 PM MST<br />Description:<br />Join us for a brand NEW Chamber event designed to help you grow your business connections and expand your referral network!&nbsp;<br />
The location will change monthly and the small fee will cover your lunch.&nbsp;<br />
This is a relaxed, engaging environment made for you to meet and connect with other businesses. Expect to give a short introduction about who you are, what your business offers and connections you are seeking.&nbsp;<br />
Whether you are looking to generate leads, build trust with other members or simply expand your professional circle, this lunch is for you!<br />Location:<br />Miner's Claim Restaurant <br />740 Main St<br />Silt, CO 81652
PRIORITY:3
TRANSP:TRANSPARENT
BEGIN:VALARM
TRIGGER:-PT5M
ACTION:DISPLAY
DESCRIPTION:Reminder
END:VALARM
END:VEVENT
END:VCALENDAR
