BEGIN:VCALENDAR
VERSION:2.0
CALSCALE:GREGORIAN
METHOD:PUBLISH
PRODID://WGCC//1404990
BEGIN:VEVENT
DTSTAMP:20260420T133212
VTIMEZONE:America/Denver
DTSTART:20260319T233000Z
DTEND:20260320T010000Z
UID:1404990
SUMMARY:Business After Hours with Culvers & Big O
LOCATION:Big O Tires, 1402 Enterprise Ct, Rifle, CO, 81650
DESCRIPTION:Business After Hours with Culvers & Big O\n\n03/19/26 05:30 PM MST\n - 03/19/26 07:00 PM MST\Description:\nCome enjoy our monthly Business After Hours hosted by Culver and Big O Tires.\Location:\nBig O Tires\n1402 Enterprise Ct\nRifle, CO 81650
X-ALT-DESC;FMTTYPE=text/html:Business After Hours with Culvers & Big O<br /><br />03/19/26 05:30 PM MST - 03/19/26 07:00 PM MST<br />Description:<br />Come enjoy our monthly Business After Hours hosted by Culver and Big O Tires.<br />Location:<br />Big O Tires<br />1402 Enterprise Ct<br />Rifle, CO 81650
PRIORITY:3
TRANSP:TRANSPARENT
BEGIN:VALARM
TRIGGER:-PT5M
ACTION:DISPLAY
DESCRIPTION:Reminder
END:VALARM
END:VEVENT
END:VCALENDAR
