BEGIN:VCALENDAR
VERSION:2.0
CALSCALE:GREGORIAN
METHOD:PUBLISH
PRODID://WGCC//1405014
BEGIN:VEVENT
DTSTAMP:20260420T164049
VTIMEZONE:America/Denver
DTSTART:20260106T200000Z
DTEND:20260331T203000Z
UID:1405014
SUMMARY:Homeschool Climbing Club
LOCATION:Rifle Climbing Center, 139 W. 3rd St., Rifle, CO, 81650
DESCRIPTION:Homeschool Climbing Club\n\n01/06/26 01:00 PM MST\n - 03/31/26 02:30 PM MST\Description:\nCalling all homeschool families! ðŸŽ’\nWe're excited to launch a brand new Homeschool Climbing Club at Rifle Climbing Center - a fun, active, and social way for kids to connect, learn new skills, and burn energy.\n\nðŸ’¡ Perfect for homeschoolers looking for:\nâœ… Active time or enrichment hours\nâœ… Building strength and confidence\nâœ… Making friends in a supportive community\n\nðŸ—“ï¸ Weekly sessions every Tuesday, $20 per session.\nðŸ§’ðŸ¾ Ages 5 and up!\n\nSign up today in the gym or over the phone.\n\nðŸ“£ ¡Alerta de nuevo programa! ðŸ§—âœ¨\n\n¡Llamando a todas las familias homeschool! ðŸŽ’\nEstamos muy contentos de lanzar un nuevo Club de Escalada Homeschool en Rifle Climbing Center - una manera divertida, activa y social para que los niños se conecten, aprendan nuevas habilidades y quemen energía.\n\nðŸ’¡ Perfecto para homeschoolers que buscan:\nâœ… Tiempo activo u horas de enriquecimiento\nâœ… Construir fuerza y confianza\nâœ… Hacer amigos en una comunidad de apoyo.\n\nðŸ—“ï¸ Sesiones semanales cada martes, $20 cada sesion.\nðŸ§’ðŸ¾ ¡A partir de 5 años!\n\nInscríbete hoy en el gimnasio o por teléfono.\Details:\nCalling all homeschool families! ðŸŽ’\nWe're excited to launch a brand new Homeschool Climbing Club at Rifle Climbing Center - a fun, active, and social way for kids to connect, learn new skills, and burn energy.\n\nðŸ’¡ Perfect for homeschoolers looking for:\nâœ… Active time or enrichment hours\nâœ… Building strength and confidence\nâœ… Making friends in a supportive community\n\nðŸ—“ï¸ Weekly sessions every Tuesday, $20 per session.\nðŸ§’ðŸ¾ Ages 5 and up!\n\nSign up today in the gym or over the phone.\n\nðŸ“£ ¡Alerta de nuevo programa! ðŸ§—âœ¨\n\n¡Llamando a todas las familias homeschool! ðŸŽ’\nEstamos muy contentos de lanzar un nuevo Club de Escalada Homeschool en Rifle Climbing Center - una manera divertida, activa y social para que los niños se conecten, aprendan nuevas habilidades y quemen energía.\n\nðŸ’¡ Perfecto para homeschoolers que buscan:\nâœ… Tiempo activo u horas de enriquecimiento\nâœ… Construir fuerza y confianza\nâœ… Hacer amigos en una comunidad de apoyo.\n\nðŸ—“ï¸ Sesiones semanales cada martes, $20 cada sesion.\nðŸ§’ðŸ¾ ¡A partir de 5 años!\n\nInscríbete hoy en el gimnasio o por teléfono\Location:\nRifle Climbing Center\n139 W. 3rd St.\nRifle, CO 81650
X-ALT-DESC;FMTTYPE=text/html:Homeschool Climbing Club<br /><br />01/06/26 01:00 PM MST - 03/31/26 02:30 PM MST<br />Description:<br />Calling all homeschool families! ðŸŽ’<br />
We're excited to launch a brand new Homeschool Climbing Club at Rifle Climbing Center - a fun, active, and social way for kids to connect, learn new skills, and burn energy.<br />
<br />
ðŸ’¡ Perfect for homeschoolers looking for:<br />
âœ… Active time or enrichment hours<br />
âœ… Building strength and confidence<br />
âœ… Making friends in a supportive community<br />
<br />
ðŸ—“ï¸ Weekly sessions every Tuesday, $20 per session.<br />
ðŸ§’ðŸ¾ Ages 5 and up!<br />
<br />
Sign up today in the gym or over the phone.<br />
<br />
ðŸ“£ &iexcl;Alerta de nuevo programa! ðŸ§—âœ¨<br />
<br />
&iexcl;Llamando a todas las familias homeschool! ðŸŽ’<br />
Estamos muy contentos de lanzar un nuevo Club de Escalada Homeschool en Rifle Climbing Center - una manera divertida, activa y social para que los ni&ntilde;os se conecten, aprendan nuevas habilidades y quemen energ&iacute;a.<br />
<br />
ðŸ’¡ Perfecto para homeschoolers que buscan:<br />
âœ… Tiempo activo u horas de enriquecimiento<br />
âœ… Construir fuerza y confianza<br />
âœ… Hacer amigos en una comunidad de apoyo.<br />
<br />
ðŸ—“ï¸ Sesiones semanales cada&nbsp;martes, $20 cada sesion.<br />
ðŸ§’ðŸ¾ &iexcl;A partir de 5 a&ntilde;os!<br />
<br />
Inscr&iacute;bete hoy en el gimnasio o por tel&eacute;fono.<br />Details:<br />Calling all homeschool families! ðŸŽ’<br />
We're excited to launch a brand new Homeschool Climbing Club at Rifle Climbing Center - a fun, active, and social way for kids to connect, learn new skills, and burn energy.<br />
<br />
ðŸ’¡ Perfect for homeschoolers looking for:<br />
âœ… Active time or enrichment hours<br />
âœ… Building strength and confidence<br />
âœ… Making friends in a supportive community<br />
<br />
ðŸ—“ï¸ Weekly sessions every Tuesday, $20 per session.<br />
ðŸ§’ðŸ¾ Ages 5 and up!<br />
<br />
Sign up today in the gym or over the phone.<br />
<br />
ðŸ“£ &iexcl;Alerta de nuevo programa! ðŸ§—âœ¨<br />
<br />
&iexcl;Llamando a todas las familias homeschool! ðŸŽ’<br />
Estamos muy contentos de lanzar un nuevo Club de Escalada Homeschool en Rifle Climbing Center - una manera divertida, activa y social para que los ni&ntilde;os se conecten, aprendan nuevas habilidades y quemen energ&iacute;a.<br />
<br />
ðŸ’¡ Perfecto para homeschoolers que buscan:<br />
âœ… Tiempo activo u horas de enriquecimiento<br />
âœ… Construir fuerza y confianza<br />
âœ… Hacer amigos en una comunidad de apoyo.<br />
<br />
ðŸ—“ï¸ Sesiones semanales cada martes, $20 cada sesion.<br />
ðŸ§’ðŸ¾ &iexcl;A partir de 5 a&ntilde;os!<br />
<br />
Inscr&iacute;bete hoy en el gimnasio o por tel&eacute;fono<br />Location:<br />Rifle Climbing Center<br />139 W. 3rd St.<br />Rifle, CO 81650
PRIORITY:3
TRANSP:TRANSPARENT
BEGIN:VALARM
TRIGGER:-PT5M
ACTION:DISPLAY
DESCRIPTION:Reminder
END:VALARM
END:VEVENT
END:VCALENDAR
