BEGIN:VCALENDAR
VERSION:2.0
CALSCALE:GREGORIAN
METHOD:PUBLISH
PRODID://WGCC//1405374
BEGIN:VEVENT
DTSTAMP:20260420T222555
VTIMEZONE:America/Denver
DTSTART:20261104T153000Z
DTEND:20261104T170000Z
UID:1405374
SUMMARY:Board of Directors Meeting
LOCATION:Parachute Library , 244 Grand Valley Way, Parachute, CO, 81635
DESCRIPTION:Board of Directors Meeting\n\n11/04/26 08:30 AM MST\n - 11/04/26 10:00 AM MST\Location:\nParachute Library \n244 Grand Valley Way\nParachute, CO 81635
X-ALT-DESC;FMTTYPE=text/html:Board of Directors Meeting<br /><br />11/04/26 08:30 AM MST - 11/04/26 10:00 AM MST<br />Location:<br />Parachute Library <br />244 Grand Valley Way<br />Parachute, CO 81635
PRIORITY:3
TRANSP:TRANSPARENT
BEGIN:VALARM
TRIGGER:-PT5M
ACTION:DISPLAY
DESCRIPTION:Reminder
END:VALARM
END:VEVENT
END:VCALENDAR
