BEGIN:VCALENDAR
VERSION:2.0
CALSCALE:GREGORIAN
METHOD:PUBLISH
PRODID://WGCC//1405892
BEGIN:VEVENT
DTSTAMP:20260420T132852
VTIMEZONE:America/Denver
DTSTART:20260307T180000Z
DTEND:20260307T200000Z
UID:1405892
SUMMARY:Celebration of Women Luncheon
LOCATION:Grand River Health, 501 Airport Road, Rifle, CO, 81650
DESCRIPTION:Celebration of Women Luncheon\n\n03/07/26 11:00 AM MST\n - 03/07/26 01:00 PM MST\Description:\nBookcliffs Art Center invites you to a Celebration of Women Luncheon. Featuring local women artists and their work. Recognizing local women business owners who are present.  \n$50 Per Person\n$300 for a Table of 6\n\nMust register by March 2nd\nevents@bookcliffs.org\Location:\nGrand River Health\n501 Airport Road\nRifle, CO 81650
X-ALT-DESC;FMTTYPE=text/html:Celebration of Women Luncheon<br /><br />03/07/26 11:00 AM MST - 03/07/26 01:00 PM MST<br />Description:<br />Bookcliffs Art Center invites you to a Celebration of Women Luncheon. Featuring local women artists and their work. Recognizing local women business owners who are present.&nbsp;&nbsp;<br />
$50 Per Person<br />
$300 for a Table of 6<br />
<br />
Must register by March 2nd<br />
events@bookcliffs.org<br />Location:<br />Grand River Health<br />501 Airport Road<br />Rifle, CO 81650
PRIORITY:3
TRANSP:TRANSPARENT
BEGIN:VALARM
TRIGGER:-PT5M
ACTION:DISPLAY
DESCRIPTION:Reminder
END:VALARM
END:VEVENT
END:VCALENDAR
