BEGIN:VCALENDAR
VERSION:2.0
CALSCALE:GREGORIAN
METHOD:PUBLISH
PRODID://WGCC//1405909
BEGIN:VEVENT
DTSTAMP:20260420T151456
VTIMEZONE:America/Denver
DTSTART:20260204T190000Z
DTEND:20260204T203000Z
UID:1405909
SUMMARY:Business Bites Lunch-February 
LOCATION:Callahan's at Battlement Mesa Golf Club, 3930 N Battlement Pkwy, Battlement Mesa, CO, 81635
DESCRIPTION:Business Bites Lunch-February \n\n02/04/26 12:00 PM MST\n - 02/04/26 01:30 PM MST\Description:\nJoin us for a brand NEW Chamber event designed to help you grow your business connections and expand your referral network! \nThe location will change monthly and the small fee will cover your lunch. \nThis is a relaxed, engaging environment made for you to meet and connect with other businesses. Expect to give a short introduction about who you are, what your business offers and connections you are seeking. \nWhether you are looking to generate leads, build trust with other members or simply expand your professional circle, this lunch is for you!\Location:\nCallahan's at Battlement Mesa Golf Club\n3930 N Battlement Pkwy\nBattlement Mesa, CO 81635
X-ALT-DESC;FMTTYPE=text/html:Business Bites Lunch-February <br /><br />02/04/26 12:00 PM MST - 02/04/26 01:30 PM MST<br />Description:<br />Join us for a brand NEW Chamber event designed to help you grow your business connections and expand your referral network!&nbsp;<br />
The location will change monthly and the small fee will cover your lunch.&nbsp;<br />
This is a relaxed, engaging environment made for you to meet and connect with other businesses. Expect to give a short introduction about who you are, what your business offers and connections you are seeking.&nbsp;<br />
Whether you are looking to generate leads, build trust with other members or simply expand your professional circle, this lunch is for you!<br />Location:<br />Callahan's at Battlement Mesa Golf Club<br />3930 N Battlement Pkwy<br />Battlement Mesa, CO 81635
PRIORITY:3
TRANSP:TRANSPARENT
BEGIN:VALARM
TRIGGER:-PT5M
ACTION:DISPLAY
DESCRIPTION:Reminder
END:VALARM
END:VEVENT
END:VCALENDAR
