BEGIN:VCALENDAR
VERSION:2.0
CALSCALE:GREGORIAN
METHOD:PUBLISH
PRODID://WGCC//1407763
BEGIN:VEVENT
DTSTAMP:20260420T131750
VTIMEZONE:America/Denver
DTSTART:20260311T150000Z
DTEND:20260311T160000Z
UID:1407763
SUMMARY:B:Side Basics
LOCATION:Register for Meeting Link at https://njirpd6v7jz.typeform.com/to/rAt7J3Ue?typeform-source=www.bsidefund.org, 3350 Brighton Blvd, Suite 235, Denver, CO, 80216
DESCRIPTION:B:Side Basics\n\n03/11/26 09:00 AM MST\n - 03/11/26 10:00 AM MST\Description:\nB:Side Basics is a FREE 4-part virtual and In-person financial literacy series created to empower small business owners, especially those from underbanked and low-to-moderate income communities.\n\nThe series will combine practical education with community-building to help entrepreneurs build stronger credit, improve personal and business financial habits, and access capital. \n\nProgram Objectives\n\n\n	\n	Demystify credit systems and empower you to build or repair personal and business credit\n	\n	\n	Teach essential personal finance skills including budgeting, savings, and responsible debt management\n	\n	\n	Introduce capital access strategies through B:Side Fund and EncoreBank offerings\n	\n	\n	Foster financial confidence and long-term stability for underserved entrepreneurs\n	\n\n\nTopics:\n\nFeb 25 Day 1: Building a Solid Credit History | 60 Mins | Virtual\n\nMarch 4 Day 2: Managing Your Finances | 60 Mins | Virtual\n\nMarch 11 Day 3: The Power of Saving | 60 Mins | Virtual \n\nMarch 18 Day 4: Launch. Grow. Fund. | 60 Mins | In-Person\n\nPresented by B:Side Fund in partnership with Encore Bank\n\Details:\nThis is a free event! The first 3 sessions are virtual and the last is in person at B:Side Capital/B:Side Fund, 3350 Brighton Blvd, Suite 235, Denver, CO  80216.\n\nRegister at https://njirpd6v7jz.typeform.com/to/rAt7J3Ue?typeform-source=www.bsidefund.org\n \Location:\nRegister for Meeting Link at https://njirpd6v7jz.typeform.com/to/rAt7J3Ue?typeform-source=www.bsidefund.org\n3350 Brighton Blvd, Suite 235\nDenver, CO 80216
X-ALT-DESC;FMTTYPE=text/html:B:Side Basics<br /><br />03/11/26 09:00 AM MST - 03/11/26 10:00 AM MST<br />Description:<br /><p data-rte-preserve-empty="true">B:Side Basics is a FREE 4-part virtual and In-person financial literacy series created to empower small business owners, especially those from underbanked and low-to-moderate income communities.</p>

<p data-rte-preserve-empty="true">The series will combine practical education with community-building to help entrepreneurs build stronger credit, improve personal and business financial habits, and access capital.&nbsp;</p>

<p data-rte-preserve-empty="true"><strong>Program Objectives</strong></p>

<ul data-rte-list="true">
	<li>
	<p data-rte-preserve-empty="true">Demystify credit systems and empower you to build or repair personal and business credit</p>
	</li>
	<li>
	<p data-rte-preserve-empty="true">Teach essential personal finance skills including budgeting, savings, and responsible debt management</p>
	</li>
	<li>
	<p data-rte-preserve-empty="true">Introduce capital access strategies through B:Side Fund and EncoreBank offerings</p>
	</li>
	<li>
	<p data-rte-preserve-empty="true">Foster financial confidence and long-term stability for underserved entrepreneurs</p>
	</li>
</ul>

<p data-rte-preserve-empty="true"><strong>Topics:</strong></p>

<p data-rte-preserve-empty="true"><strong>Feb 25 Day 1: Building a Solid Credit History | 60 Mins | Virtual</strong></p>

<p data-rte-preserve-empty="true"><strong>March 4 Day 2: Managing Your Finances | 60 Mins | Virtual</strong></p>

<p data-rte-preserve-empty="true"><strong>March 11 Day 3: The Power of Saving | 60 Mins | Virtual&nbsp;</strong></p>

<p data-rte-preserve-empty="true"><strong>March 18 Day 4: Launch. Grow. Fund. | 60 Mins | In-Person</strong></p>

<p data-rte-preserve-empty="true">Presented by B:Side Fund in partnership with&nbsp;Encore Bank</p>
<br />Details:<br />This is a free event! The first 3 sessions are virtual and the last is in person at B:Side Capital/B:Side Fund, 3350 Brighton Blvd, Suite 235, Denver, CO&nbsp; 80216.<br />
<br />
Register at&nbsp;<a href="https://njirpd6v7jz.typeform.com/to/rAt7J3Ue?typeform-source=www.bsidefund.org">https://njirpd6v7jz.typeform.com/to/rAt7J3Ue?typeform-source=www.bsidefund.org</a><br />
&nbsp;<br />Location:<br />Register for Meeting Link at https://njirpd6v7jz.typeform.com/to/rAt7J3Ue?typeform-source=www.bsidefund.org<br />3350 Brighton Blvd, Suite 235<br />Denver, CO 80216
PRIORITY:3
TRANSP:TRANSPARENT
BEGIN:VALARM
TRIGGER:-PT5M
ACTION:DISPLAY
DESCRIPTION:Reminder
END:VALARM
END:VEVENT
END:VCALENDAR
