BEGIN:VCALENDAR
VERSION:2.0
CALSCALE:GREGORIAN
METHOD:PUBLISH
PRODID://WGCC//1407770
BEGIN:VEVENT
DTSTAMP:20260420T151046
VTIMEZONE:America/Denver
DTSTART:20260212T233000Z
DTEND:20260213T020000Z
UID:1407770
SUMMARY:Grand River's Da Vinci Ribbon Cutting
LOCATION:Grand River Health, 501 Airport Rd, Rifle, CO, 81650
DESCRIPTION:Grand River's Da Vinci Ribbon Cutting\n\n02/12/26 04:30 PM MST\n - 02/12/26 07:00 PM MST\Location:\nGrand River Health\n501 Airport Rd\nRifle, CO 81650
X-ALT-DESC;FMTTYPE=text/html:Grand River's Da Vinci Ribbon Cutting<br /><br />02/12/26 04:30 PM MST - 02/12/26 07:00 PM MST<br />Location:<br />Grand River Health<br />501 Airport Rd<br />Rifle, CO 81650
PRIORITY:3
TRANSP:TRANSPARENT
BEGIN:VALARM
TRIGGER:-PT5M
ACTION:DISPLAY
DESCRIPTION:Reminder
END:VALARM
END:VEVENT
END:VCALENDAR
